BEGIN:VCALENDAR
VERSION:2.0
PRODID:-// - ECPv6.15.20//NONSGML v1.0//EN
CALSCALE:GREGORIAN
METHOD:PUBLISH
X-ORIGINAL-URL:https://telekiwattaykastely.hu
X-WR-CALDESC:Események 
REFRESH-INTERVAL;VALUE=DURATION:PT1H
X-Robots-Tag:noindex
X-PUBLISHED-TTL:PT1H
BEGIN:VTIMEZONE
TZID:UTC
BEGIN:STANDARD
TZOFFSETFROM:+0000
TZOFFSETTO:+0000
TZNAME:UTC
DTSTART:20220101T000000
END:STANDARD
END:VTIMEZONE
BEGIN:VEVENT
DTSTART;TZID=UTC:20231027T180000
DTEND;TZID=UTC:20231115T233000
DTSTAMP:20260422T050319
CREATED:20231006T195031Z
LAST-MODIFIED:20231010T125730Z
UID:2595-1698429600-1700091000@telekiwattaykastely.hu
SUMMARY:Kőműves Éva kiállítása
DESCRIPTION:A „Karib-tengertől Pomázig” című kiállításra\, melyen Kőműves Éva festményeit csodálhatják meg a résztvevők.\nMegnyitó: 2023.10.27-én\, pénteken 18 órakor\nHelyszín: Teleki-Wattay Kastély 2013 Pomáz\, Templom tér 3.\nMegnyitja: Egervári Lilla művészet-és szocioterapeuta\nKözreműködnek:\nAFROBREAKZ együttes afrikai dobokkal\, Kiss László handpanen\, és Kovács Hajnalka és Lajkó György verssel\nA kiállítás november 15-ig látogatható.\nAz alkotások megvásárolhatóak.
URL:https://telekiwattaykastely.hu/event/komuves-eva-kiallitasa-oktober-27-en-penteken-18-oratol/
END:VEVENT
BEGIN:VEVENT
DTSTART;TZID=UTC:20231104T093000
DTEND;TZID=UTC:20231104T123000
DTSTAMP:20260422T050319
CREATED:20231102T145316Z
LAST-MODIFIED:20231102T145349Z
UID:2664-1699090200-1699101000@telekiwattaykastely.hu
SUMMARY:Felnőtt Színjátszó és dramatizált Versmondó Kör
DESCRIPTION:
URL:https://telekiwattaykastely.hu/event/felnott-szinjatszo-es-dramatizalt-versmondo-kor/
END:VEVENT
BEGIN:VEVENT
DTSTART;TZID=UTC:20231108T180000
DTEND;TZID=UTC:20231108T193000
DTSTAMP:20260422T050319
CREATED:20231025T100604Z
LAST-MODIFIED:20231030T152658Z
UID:2650-1699466400-1699471800@telekiwattaykastely.hu
SUMMARY:Elcsendesedés\, megnyugvás\, harmónia-hangfürdő november 8-án (szerdán) 18.00-19.30 óra között!
DESCRIPTION:Szokásos hangfürdőnkön most veszteségeink feldolgozása\, elengedése kerül a középpontba. Nincs\nmás dolgod\, csak hozd magaddal polifoamodat\, kedvenc kispárnádat\, plédedet. Mi biztosítjuk a\nharmonikus környezetet és a csodás rezgéseket. Peter Hess hangtálak\, handpan\, gong\, csengettyűk\,\nsansula és más egzotikus hangszerek segítenek neked az elmélyülésben\, relaxálásban. Ajánlott sok\nvizet fogyasztani. A rezgések segítenek feloldani a blokkokat\, harmóniába kerülsz. ezáltal beindulnak\naz öngyógyító mechanizmusok.\nEllenjavalt kismamáknak az első 3 hónapban\, szívritmus szabályozóval élőknek\, rákos betegeknek .\nA hangfürdő adományos\, ajánlott összeg: 4000 FT\nJelentkezz be a lillaeger@gmail.com címen.\nSzeretettel vár:\nEgervári Lilla Peter Hess hangmasszőr\nés Kiss László hangbűvész
URL:https://telekiwattaykastely.hu/event/elcsendesedes-megnyugvas-harmonia-hangfurdo-november-8-an-szerdan-18-00-19-30-ora-kozott/
END:VEVENT
BEGIN:VEVENT
DTSTART;TZID=UTC:20231109T180000
DTEND;TZID=UTC:20231109T200000
DTSTAMP:20260422T050319
CREATED:20231030T152219Z
LAST-MODIFIED:20231030T152459Z
UID:2659-1699552800-1699560000@telekiwattaykastely.hu
SUMMARY:Szó-rakozó (Magyar estek) sorozat 27. előadása – Egészséges táplálkozás a megváltozott világban!
DESCRIPTION:
URL:https://telekiwattaykastely.hu/event/szo-rakozo-magyar-estek-sorozat-27-eloadasa-egeszseges-taplalkozas-a-megvaltozott-vilagban/
END:VEVENT
BEGIN:VEVENT
DTSTART;TZID=UTC:20231113T183000
DTEND;TZID=UTC:20231113T200000
DTSTAMP:20260422T050319
CREATED:20231010T125441Z
LAST-MODIFIED:20231103T090210Z
UID:2618-1699900200-1699905600@telekiwattaykastely.hu
SUMMARY:KastélYoga
DESCRIPTION:
URL:https://telekiwattaykastely.hu/event/kastelyoga-2/
END:VEVENT
BEGIN:VEVENT
DTSTART;TZID=UTC:20231117T180000
DTEND;TZID=UTC:20231117T180000
DTSTAMP:20260422T050319
CREATED:20231103T090704Z
LAST-MODIFIED:20231112T222927Z
UID:2676-1700244000-1700244000@telekiwattaykastely.hu
SUMMARY:MEGNYITÓ ÜNNEPSÉG - SZENTENDRE FOTÓKLUB ESSZENCIA V. FOTÓKIÁLLÍTÁS
DESCRIPTION:
URL:https://telekiwattaykastely.hu/event/megnyito-szentendre-fotoklub-esszencia-v-fotokiallitas/
END:VEVENT
BEGIN:VEVENT
DTSTART;TZID=UTC:20231117T180000
DTEND;TZID=UTC:20231206T233000
DTSTAMP:20260422T050319
CREATED:20231103T090536Z
LAST-MODIFIED:20231103T090536Z
UID:2672-1700244000-1701905400@telekiwattaykastely.hu
SUMMARY:SZENTENDRE FOTÓKLUB ESSZENCIA V. FOTÓKIÁLLÍTÁS
DESCRIPTION:
URL:https://telekiwattaykastely.hu/event/szentendre-fotoklub-esszencia-v-fotokiallitas/
END:VEVENT
BEGIN:VEVENT
DTSTART;TZID=UTC:20231118T093000
DTEND;TZID=UTC:20231118T123000
DTSTAMP:20260422T050319
CREATED:20231102T145434Z
LAST-MODIFIED:20231102T145434Z
UID:2667-1700299800-1700310600@telekiwattaykastely.hu
SUMMARY:Felnőtt Színjátszó és dramatizált Versmondó Kör
DESCRIPTION:
URL:https://telekiwattaykastely.hu/event/felnott-szinjatszo-es-dramatizalt-versmondo-kor-2/
END:VEVENT
BEGIN:VEVENT
DTSTART;TZID=UTC:20231120T183000
DTEND;TZID=UTC:20231120T200000
DTSTAMP:20260422T050319
CREATED:20231004T103347Z
LAST-MODIFIED:20231103T090912Z
UID:2020-1700505000-1700510400@telekiwattaykastely.hu
SUMMARY:KastélYoga
DESCRIPTION:
URL:https://telekiwattaykastely.hu/event/kastelyoga/
END:VEVENT
BEGIN:VEVENT
DTSTART;TZID=UTC:20231127T183000
DTEND;TZID=UTC:20231127T200000
DTSTAMP:20260422T050319
CREATED:20231113T121929Z
LAST-MODIFIED:20231113T121929Z
UID:2685-1701109800-1701115200@telekiwattaykastely.hu
SUMMARY:KastélYoga
DESCRIPTION:
URL:https://telekiwattaykastely.hu/event/kastelyoga-4/
END:VEVENT
END:VCALENDAR