BEGIN:VCALENDAR
VERSION:2.0
PRODID:-// - ECPv6.15.20//NONSGML v1.0//EN
CALSCALE:GREGORIAN
METHOD:PUBLISH
X-ORIGINAL-URL:https://telekiwattaykastely.hu
X-WR-CALDESC:Események 
REFRESH-INTERVAL;VALUE=DURATION:PT1H
X-Robots-Tag:noindex
X-PUBLISHED-TTL:PT1H
BEGIN:VTIMEZONE
TZID:UTC
BEGIN:STANDARD
TZOFFSETFROM:+0000
TZOFFSETTO:+0000
TZNAME:UTC
DTSTART:20220101T000000
END:STANDARD
END:VTIMEZONE
BEGIN:VEVENT
DTSTART;TZID=UTC:20231117T180000
DTEND;TZID=UTC:20231206T233000
DTSTAMP:20260422T031159
CREATED:20231103T090536Z
LAST-MODIFIED:20231103T090536Z
UID:2672-1700244000-1701905400@telekiwattaykastely.hu
SUMMARY:SZENTENDRE FOTÓKLUB ESSZENCIA V. FOTÓKIÁLLÍTÁS
DESCRIPTION:
URL:https://telekiwattaykastely.hu/event/szentendre-fotoklub-esszencia-v-fotokiallitas/
END:VEVENT
BEGIN:VEVENT
DTSTART;TZID=UTC:20231202T093000
DTEND;TZID=UTC:20231202T123000
DTSTAMP:20260422T031159
CREATED:20231201T165458Z
LAST-MODIFIED:20231201T165458Z
UID:2829-1701509400-1701520200@telekiwattaykastely.hu
SUMMARY:Felnőtt Színjátszó és dramatizált Versmondó Kör
DESCRIPTION:
URL:https://telekiwattaykastely.hu/event/felnott-szinjatszo-es-dramatizalt-versmondo-kor-3/
END:VEVENT
BEGIN:VEVENT
DTSTART;TZID=UTC:20231203T183000
DTEND;TZID=UTC:20231203T183000
DTSTAMP:20260422T031159
CREATED:20231129T090353Z
LAST-MODIFIED:20231129T090452Z
UID:2802-1701628200-1701628200@telekiwattaykastely.hu
SUMMARY:Adventi gondolatok a Kastélyban!
DESCRIPTION:A Pilisi Nemzeti Keresztény Egyesület idén is várja advent első vasárnapján mindazokat\, akik a rohanásból megállva szívesen részt vesznek egy szépirodalommal megtöltött órán az egyesület közösségével.\nA Kastély dísztermében adventi gondolatokat hallgatunk meg\, majd a kastélykertben álló Wass Albert szobornál elhangzik az író Karácsonyi verse.\nAz estét a teraszon – forró tea és forralt bor mellett – kötetlen beszélgetéssel zárjuk.\nTalálkozzunk december 3-án\, 18:30-kor!\nA belépés ingyenes!
URL:https://telekiwattaykastely.hu/event/adventi-gondolatok-a-kastelyban/
END:VEVENT
BEGIN:VEVENT
DTSTART;TZID=UTC:20231204T183000
DTEND;TZID=UTC:20231204T200000
DTSTAMP:20260422T031159
CREATED:20231102T155052Z
LAST-MODIFIED:20231129T090606Z
UID:2670-1701714600-1701720000@telekiwattaykastely.hu
SUMMARY:KastélYoga
DESCRIPTION:
URL:https://telekiwattaykastely.hu/event/kastelyoga-3/
END:VEVENT
BEGIN:VEVENT
DTSTART;TZID=UTC:20231206T163000
DTEND;TZID=UTC:20231206T193000
DTSTAMP:20260422T031159
CREATED:20231204T120206Z
LAST-MODIFIED:20231204T120206Z
UID:2835-1701880200-1701891000@telekiwattaykastely.hu
SUMMARY:MIKULÁS A KASTÉLY ÉTTEREMBEN!
DESCRIPTION:Kedves Szülők\, Kedves Gyerekek! \n\n\nDecember 6-àn (szerdán) a Télapó meglátogatja a Kastély Éttermet\, hiszen a nagy munkában Ő is megéhezik. \n\n\nA Télapó 16:30-tól 19:30-ig tartózkodik majd nálunk\, ebben az időszakban ajándékokkal is készül azoknak\, akik nálunk vacsoráznak gyermekeikkel! \n\n\nCím: 2013 Pomáz\, Templom tér 3.\nAsztalfoglalás: 06-30-417-7423
URL:https://telekiwattaykastely.hu/event/mikulas-a-kastely-etteremben/
END:VEVENT
BEGIN:VEVENT
DTSTART;TZID=UTC:20231208T180000
DTEND;TZID=UTC:20231208T180000
DTSTAMP:20260422T031159
CREATED:20231129T091304Z
LAST-MODIFIED:20231129T091353Z
UID:2811-1702058400-1702058400@telekiwattaykastely.hu
SUMMARY:MEGNYITÓ ÜNNEPSÉG - ÖSVÉNYEK - PARTOK Csomor Ildikó CSILD KIÁLLÍTÁSA
DESCRIPTION:A kiállítást megnyitja Dr. Siklódi Csilla régész\nKözreműködik: Kiss László handpanen\nA kiállítás december 29-ig látogatható.\nAz alkotások a helyszínen megvásárolhatók.
URL:https://telekiwattaykastely.hu/event/megnyito-unnepseg-osvenyek-partok-csomor-ildiko-csild-kiallitas/
END:VEVENT
BEGIN:VEVENT
DTSTART;TZID=UTC:20231208T180000
DTEND;TZID=UTC:20231229T000000
DTSTAMP:20260422T031159
CREATED:20231129T091029Z
LAST-MODIFIED:20231129T091029Z
UID:2807-1702058400-1703808000@telekiwattaykastely.hu
SUMMARY:ÖSVÉNYEK - PARTOK Csomor Ildikó CSILD KIÁLLÍTÁS
DESCRIPTION:A kiállítást megnyitja Dr. Siklódi Csilla régész\nKözreműködik: Kiss László handpanen\nA kiállítás december 29-ig látogatható.\nAz alkotások a helyszínen megvásárolhatók.
URL:https://telekiwattaykastely.hu/event/osvenyek-partok-csomor-ildiko-csild-kiallitas/
END:VEVENT
BEGIN:VEVENT
DTSTART;TZID=UTC:20231213T180000
DTEND;TZID=UTC:20231213T193000
DTSTAMP:20260422T031159
CREATED:20231129T090828Z
LAST-MODIFIED:20231129T090845Z
UID:2804-1702490400-1702495800@telekiwattaykastely.hu
SUMMARY:Luca-napi hangfürdő a Kastélyban!
DESCRIPTION:Havonta egy alkalommal (minden hónap 2. szerdáján\, 18-19.30-ig) tibeti hangtálakkal\, hanpannel\, gonggal\, és más egzotikus hangszerekkel kísért hangfürdőt tartunk\, azzal a célzattal\, hogy a résztvevők relaxációját segítsük. A Peter Hess hangtálak a rezgésükkel is segítenek\, hogy harmóniába kerülhessünk. A módosult tudatállapotban meg lehet szabadulni a stressztől\, és segít beindítani a szervezet öngyógyító képességét. Közelebb kerülhetünk önvalónkhoz. Mivel a mostani hangfürdő pont Luca-napra esik\, így a sötétségtől is szabadulhatunk\, megteremthetjük a fényt…\nA hangfürdőn a résztvevők a saját polifoamjukon fekszenek\, aki szeretne\, hozzon kispárnát\, plédet is.\nFontos a sok víz fogyasztása a hangfürdő előtt. Hidratált állapotban jobban hatnak a rezgések. A hangfürdő 45 percig tart\, utána beszélgetünk\, megismertetjük a hangszereket\, hangtálakat. Ki is lehet próbálni őket. Kérdések feltevésére is sor kerülhet. Ezért összességében 90 percre kell számítani. (Lehetőség van a relaxáció befejezése után is távozni.)\nKismamáknak az első 3 hónapban\, szívritmus szabályzóval élőknek\, és rákos betegeknek ellenjavalt.\nA hangfürdő adományos. Az ajánlott adomány összege: min. 4000 FT\nHelyed biztosítása érdekében jelentkezz be a lillaeger@gmail.com e-mail címen.\n\nMindenkit szeretettel vár:\nEgervári Lilla Peter Hess hangterapeuta\nés Kiss László hangbűvész
URL:https://telekiwattaykastely.hu/event/luca-napi-hangfurdo-a-kastelyban/
END:VEVENT
BEGIN:VEVENT
DTSTART;TZID=UTC:20231214T180000
DTEND;TZID=UTC:20231214T180000
DTSTAMP:20260422T031159
CREATED:20231213T112717Z
LAST-MODIFIED:20231213T112730Z
UID:2850-1702576800-1702576800@telekiwattaykastely.hu
SUMMARY:Szkíta-Hun-Magyar gyógyító jelképek – Kiss Maotun István őstörténet kutató előadása
DESCRIPTION:Sok szeretettel várjuk a Szó-rakózó (Magyar estek) sorozat 28. elõadására.\nFolytatjuk az egészséggel kapcsolatos előadás sorozatunkat\, ezért most Kiss Maotun István lesz vendégünk\, aki a Szkíta-Hun-Magyar gyógyító jelképekről beszél.\nA belépés díjtalan\, de támogatást a szervezők elfogadnak.\nA helyszín biztosítása miatt előzetes bejelentkezést kérnek az msz.pomaz@gmail.com címen vagy a 20/350-9721-es telefonszámon. \nAz előadás sorozatot a MAGYAROK SZÖVETSÉGE szervezi.
URL:https://telekiwattaykastely.hu/event/szkita-hun-magyar-gyogyito-jelkepek-kiss-maotunk-istvan-ostortenet-kutato-eloadasa/
END:VEVENT
BEGIN:VEVENT
DTSTART;TZID=UTC:20231216T093000
DTEND;TZID=UTC:20231216T123000
DTSTAMP:20260422T031159
CREATED:20231201T165614Z
LAST-MODIFIED:20231201T165614Z
UID:2831-1702719000-1702729800@telekiwattaykastely.hu
SUMMARY:Felnőtt Színjátszó és dramatizált Versmondó Kör
DESCRIPTION:
URL:https://telekiwattaykastely.hu/event/felnott-szinjatszo-es-dramatizalt-versmondo-kor-4/
END:VEVENT
BEGIN:VEVENT
DTSTART;TZID=UTC:20231217T180000
DTEND;TZID=UTC:20231217T180000
DTSTAMP:20260422T031159
CREATED:20231129T091614Z
LAST-MODIFIED:20231129T091716Z
UID:2814-1702836000-1702836000@telekiwattaykastely.hu
SUMMARY:JELENVAL(L)Ó KORTÁRSAINK - Balázs László Gábor - beszélgető-lélekfeleselő előadóest-sorozat
DESCRIPTION:Balázs László Gábor – beszélgető-lélekfeleselő előadóest sorozatának első vendége BORBÉLY MIHÁLY – Kossuth és Liszt díjas – népzenész\, jazzmuzsikus\, zeneszerző\, zenepedagógus\, igazi világzenész.\nA belépőjegyek a Kastély recepcióján vásárolhatóak meg.\nA jegyek ára: az előadás napján: 3.900Ft/fő\nelővételben: 3.500Ft/fő
URL:https://telekiwattaykastely.hu/event/jelenvallo-kortarsaink-balazs-laszlo-gabor-beszelgeto-lelekfeleselo-eloadoest-sorozat/
END:VEVENT
BEGIN:VEVENT
DTSTART;TZID=UTC:20231218T183000
DTEND;TZID=UTC:20231218T200000
DTSTAMP:20260422T031159
CREATED:20231204T120002Z
LAST-MODIFIED:20231204T120002Z
UID:2833-1702924200-1702929600@telekiwattaykastely.hu
SUMMARY:KastélYoga
DESCRIPTION:
URL:https://telekiwattaykastely.hu/event/kastelyoga-6/
END:VEVENT
BEGIN:VEVENT
DTSTART;TZID=UTC:20231219T180000
DTEND;TZID=UTC:20231219T180000
DTSTAMP:20260422T031159
CREATED:20231213T093927Z
LAST-MODIFIED:20231213T094038Z
UID:2841-1703008800-1703008800@telekiwattaykastely.hu
SUMMARY:KÖNYVBEMUTATÓ A KASTÉLYBAN - POMÁZ ÉKSZERDOBOZ A PILIS KAPUJÁBAN
DESCRIPTION:KÖNYVBEMUTATÓ A KASTÉLYBAN\nPOMÁZ Ékszerdoboz a Pilis kapujában\nVálogatás Czímer Mihály képeiből\n\nIdőpont: 2023. december 19.\, 18 óra.\n\nMéltatást mond: Tóth András\, a Szentendrei Fotóklub elnöke\n\nKözreműködnek:\nKiss László – handpan\nNagyné Farkas Annamária – ének\nNagy Angéla – vers\n\nSzeretettel várjuk az érdeklődőket!
URL:https://telekiwattaykastely.hu/event/konyvbemutato-a-kastelyban-pomaz-ekszerdoboz-a-pilis-kapujaban/
END:VEVENT
BEGIN:VEVENT
DTSTART;TZID=UTC:20231231T190000
DTEND;TZID=UTC:20240101T040000
DTSTAMP:20260422T031159
CREATED:20231122T114933Z
LAST-MODIFIED:20231122T114933Z
UID:2702-1704049200-1704081600@telekiwattaykastely.hu
SUMMARY:SZILVESZTER A KASTÉLYBAN!
DESCRIPTION:
URL:https://telekiwattaykastely.hu/event/szilveszter-a-kastelyban/
END:VEVENT
END:VCALENDAR