BEGIN:VCALENDAR
VERSION:2.0
PRODID:-// - ECPv6.15.20//NONSGML v1.0//EN
CALSCALE:GREGORIAN
METHOD:PUBLISH
X-ORIGINAL-URL:https://telekiwattaykastely.hu
X-WR-CALDESC:Események 
REFRESH-INTERVAL;VALUE=DURATION:PT1H
X-Robots-Tag:noindex
X-PUBLISHED-TTL:PT1H
BEGIN:VTIMEZONE
TZID:UTC
BEGIN:STANDARD
TZOFFSETFROM:+0000
TZOFFSETTO:+0000
TZNAME:UTC
DTSTART:20230101T000000
END:STANDARD
END:VTIMEZONE
BEGIN:VEVENT
DTSTART;TZID=UTC:20240214T180000
DTEND;TZID=UTC:20240214T193000
DTSTAMP:20260421T234503
CREATED:20240130T104016Z
LAST-MODIFIED:20240130T104016Z
UID:2988-1707933600-1707939000@telekiwattaykastely.hu
SUMMARY:Télűző hangfürdő
DESCRIPTION:Szokásos havi hangfürdőnkön most arra koncentrálunk\, hogy elűzzük a telet\, a betegségeket! Ebben segítségünkre lesznek a csodás hangú és rezgésű Peter Hess hangtálak\, gong\, handpan és más egzotikus meglepetés-hangszerek is! Neked csak a poilfoamodat és némi kis plédet kell hoznod\, meg vizet\, hogy minél hidratáltabb légy. A rezgések segítenek\, hogy harmóniába kerülhess\, feloldódjanak a blokkok\, beinduljon az öngyógyulás.\nPihenhetsz\, feltöltődhetsz ezen a csodás utazáson.\nA hangfürdő adományos. Az ajánlott összeg: 4000 Ft\nSzeretettel vár: Egervári Lilla Peter Hess hangterapeuta és Kiss László hangbűvész\nKismamáknak az első 3 hónapban ellenjavalt. Pacemakerrel élők is csak saját felelősségre vehetnek részt.\nBejelentkezés szükséges a lillaeger@gmail.com címen!
URL:https://telekiwattaykastely.hu/event/teluzo-hangfurdo/
END:VEVENT
BEGIN:VEVENT
DTSTART;TZID=UTC:20240216T180000
DTEND;TZID=UTC:20240216T193000
DTSTAMP:20260421T234503
CREATED:20240122T115908Z
LAST-MODIFIED:20240122T115908Z
UID:2968-1708106400-1708111800@telekiwattaykastely.hu
SUMMARY:MEGNYITÓ ÜNNEPSÉG - „AZ ÜLLŐTŐL A PALETTÁIG” SZEGKOVÁCS JÓZSEF ROMA MŰVÉSZ FESTMÉNY KIÁLLÍTÁSA
DESCRIPTION:Megnyitó: 2024. február 16. (péntek) 18 órától \nA kiállítást megnyitja: Egervári Lilla művészterapeuta \nA megnyitón Mitczura Mónika dalait felvételről hallhatjuk \nA kiállítás megtekinthető március 8-ig 8-18 óráig. \nTeleki-Wattay Kastély 2013 Pomáz\, Templom tér 3.
URL:https://telekiwattaykastely.hu/event/megnyito-unnepseg-az-ullotol-a-palettaig-szegkovacs-jozsef-roma-muvesz-festmeny-kiallitasa/
END:VEVENT
BEGIN:VEVENT
DTSTART;TZID=UTC:20240216T180000
DTEND;TZID=UTC:20240308T000000
DTSTAMP:20260421T234503
CREATED:20240122T120029Z
LAST-MODIFIED:20240122T120044Z
UID:2971-1708106400-1709856000@telekiwattaykastely.hu
SUMMARY:„AZ ÜLLŐTŐL A PALETTÁIG” SZEGKOVÁCS JÓZSEF ROMA MŰVÉSZ FESTMÉNY KIÁLLÍTÁSA
DESCRIPTION:Megnyitó: 2024. február 16. (péntek) 18 órától \nA kiállítást megnyitja: Egervári Lilla művészterapeuta \nA megnyitón Mitczura Mónika dalait felvételről hallhatjuk \nA kiállítás megtekinthető március 8-ig 8-18 óráig. \nTeleki-Wattay Kastély 2013 Pomáz\, Templom tér 3.
URL:https://telekiwattaykastely.hu/event/megnyito-unnepseg-az-ullotol-a-palettaig-szegkovacs-jozsef-roma-muvesz-festmeny-kiallitasa-2/
END:VEVENT
BEGIN:VEVENT
DTSTART;TZID=UTC:20240224T160000
DTEND;TZID=UTC:20240224T160000
DTSTAMP:20260421T234503
CREATED:20240213T152308Z
LAST-MODIFIED:20240213T152901Z
UID:2993-1708790400-1708790400@telekiwattaykastely.hu
SUMMARY:Wass Albert szépirodalmi ünnep
DESCRIPTION:A Pilisi Nemzeti Keresztény Egyesület idén is szeretettel vár minden irodalomkedvelőt a határokon átívelő Wass Albert szépirodalmi ünnepre február 24-én (szombaton) 16 órától a Kastély dísztermében! Az esemény fővédnöke Nyilas Zoltán református esperes. \nHamarosan jelentkezünk a részletes programmal!
URL:https://telekiwattaykastely.hu/event/wass-albert-szepirodalmi-unnep/
END:VEVENT
END:VCALENDAR