BEGIN:VCALENDAR
VERSION:2.0
PRODID:-// - ECPv6.15.20//NONSGML v1.0//EN
CALSCALE:GREGORIAN
METHOD:PUBLISH
X-ORIGINAL-URL:https://telekiwattaykastely.hu
X-WR-CALDESC:Események 
REFRESH-INTERVAL;VALUE=DURATION:PT1H
X-Robots-Tag:noindex
X-PUBLISHED-TTL:PT1H
BEGIN:VTIMEZONE
TZID:UTC
BEGIN:STANDARD
TZOFFSETFROM:+0000
TZOFFSETTO:+0000
TZNAME:UTC
DTSTART:20230101T000000
END:STANDARD
END:VTIMEZONE
BEGIN:VEVENT
DTSTART;TZID=UTC:20240312T180000
DTEND;TZID=UTC:20240407T233000
DTSTAMP:20260421T202131
CREATED:20240229T144402Z
LAST-MODIFIED:20240229T144522Z
UID:3040-1710266400-1712532600@telekiwattaykastely.hu
SUMMARY:A SZENTENDRE FOTÓKLUB SZERVEZÉSÉBEN RÁADÁS FOTÓKIÁLLÍTÁS
DESCRIPTION:A kiállítás 2024.04.07-ig 8-18 óra között látogatható. A belépés díjtalan! \nHelyszíne: Teleki-Wattay Kastély kiállítóterme. \nVárjuk szeretettel!
URL:https://telekiwattaykastely.hu/event/a-szentendre-fotoklub-szervezeseben-raadas-fotokiallitas/
END:VEVENT
BEGIN:VEVENT
DTSTART;TZID=UTC:20240406T094500
DTEND;TZID=UTC:20240406T120000
DTSTAMP:20260421T202131
CREATED:20240328T163347Z
LAST-MODIFIED:20240328T163347Z
UID:3093-1712396700-1712404800@telekiwattaykastely.hu
SUMMARY:Gyógynövény és vadvirág mustra - Klissza-tanösvény\, Pomáz
DESCRIPTION:Gyógynövény és vadvirág mustra\n\nHelyszín: Klissza-tanösvény\, Pomáz\nIdőpont: 2024. április 6. (szombat) 10:00 – 12:00\nTalálkozó: 9:45 Teleki-Wattay Kastély – 2013 Pomáz\, Templom tér 3.\nTúravezető\, túraszervező: Menyházi Regina – NaTúra alapítója\, bronz jelvényes túravezető\, herbalista (www.termeszetkozelituravezetes.hu)\n\n– Időtartam: kb. 2 óra\n– Táv: kb. 3 km\n– Részvételi díj: 14 év feletti helyi lakosoknak és a Kastély szállóvendégeinek 4.000 Ft/fő; 14 év alattiaknak ingyenes\n– Parkolás: autóval érkezők számára ingyenes a Kastély parkolójában\n\nEgyre többen érdeklődnek a gyógynövények\, a vadvirágok és az ehető vadon termő növények világáról. Ezen a kiránduláson a növények lesznek a főszerepben. Az útvonal nem lesz nehéz és hosszú\, de bőséges látnivalóval kecsegtet bennünket. Tartsatok velünk és ismerkedjetek meg közelebbről a természet adta kincsekkel! \nA Kastély Étteremben – előzetesen – szendvicscsomag rendelhető\, illetve 12-15 óra között kedvezményes ebédmenü vásárolható.\n\nJelentkezés: Menyházi Regina – hello@termeszetkozelituravezetes.hu
URL:https://telekiwattaykastely.hu/event/gyogynoveny-es-vadvirag-mustra-klissza-tanosveny-pomaz/
END:VEVENT
BEGIN:VEVENT
DTSTART;TZID=UTC:20240410T190000
DTEND;TZID=UTC:20240410T203000
DTSTAMP:20260421T202131
CREATED:20240328T163653Z
LAST-MODIFIED:20240328T163653Z
UID:3097-1712775600-1712781000@telekiwattaykastely.hu
SUMMARY:Tavaszi megújulás hangfürdő
DESCRIPTION:Tavasszal megújul a természet! Minden bimbózik\, virágzik\, hajt\, frissül! Nekünk is szükségünk van erre. Ahhoz hogy megújulhassunk\, el kell engednünk mindazt\, ami nem szolgálja a javunkat.\nEbben segítségetekre lesznek a tibeti hangtálak\, gong\, handpan\, és sok más egzotikus hangszer. A rezgések elringatnak\, megnyugtatnak\, közelebb kerülhetsz önmagadhoz. Közben a blokkok oldódnak\, beindul az öngyógyítás. Fogyassz előtte sok folyadékot! Ne felejts el polifoamot és plédet hozni!\n\nJelentkezz be a lillaegerv@gmail.com címen.\nA hangfürdő adományos. Min. 4000 Ft-tal számolj.\n\nSzeretettel vár: Egervári Lilla Peter Hess hangterapeuta és Kiss László hangbűvész
URL:https://telekiwattaykastely.hu/event/tavaszi-megujulas-hangfurdo/
END:VEVENT
BEGIN:VEVENT
DTSTART;TZID=UTC:20240412T180000
DTEND;TZID=UTC:20240412T180000
DTSTAMP:20260421T202131
CREATED:20240328T163052Z
LAST-MODIFIED:20240328T165221Z
UID:3090-1712944800-1712944800@telekiwattaykastely.hu
SUMMARY:SZAVAK NÉLKÜLI BESZÉD… Bertók Tünde Finnországban élő\, pécsi születésű festőnő kiállításmegnyitója
DESCRIPTION:SZAVAK NÉLKÜLI BESZÉD…\nBertók Tünde Finnországban élő\, pécsi születésű festőnő kiállítása.\nMegnyitó időpontja: 2024.04.12. (péntek) 18.00\nHelyszín: Teleki-Wattay Kastély 2013 Pomáz\, Templom tér 3.\nA kiállítást megnyitja: Egervári Lilla művészet terapeuta\nKözreműködik: Kiss László (zongorán és handpanen)\nA kiállítás május 5-ig látható\, a belépés díjtalan.\nVárjuk szeretettel!
URL:https://telekiwattaykastely.hu/event/szavak-nelkuli-beszed-bertok-tunde-finnorszagban-elo-pecsi-szuletesu-festono-kiallitasa/
END:VEVENT
BEGIN:VEVENT
DTSTART;TZID=UTC:20240412T180000
DTEND;TZID=UTC:20240505T233000
DTSTAMP:20260421T202131
CREATED:20240328T163833Z
LAST-MODIFIED:20240328T163833Z
UID:3101-1712944800-1714951800@telekiwattaykastely.hu
SUMMARY:SZAVAK NÉLKÜLI BESZÉD… Bertók Tünde Finnországban élő\, pécsi születésű festőnő kiállítása
DESCRIPTION:SZAVAK NÉLKÜLI BESZÉD…\nBertók Tünde Finnországban élő\, pécsi születésű festőnő kiállítása.\nMegnyitó időpontja: 2024.04.12. (péntek) 18.00\nHelyszín: Teleki-Wattay Kastély 2013 Pomáz\, Templom tér 3.\nA kiállítást megnyitja: Egervári Lilla művészet terapeuta\nKözreműködik: Kiss László (zongorán és handpanen)\nA kiállítás május 5-ig látható\, a belépés díjtalan.\nVárjuk szeretettel!
URL:https://telekiwattaykastely.hu/event/szavak-nelkuli-beszed-bertok-tunde-finnorszagban-elo-pecsi-szuletesu-festono-kiallitasa-2/
END:VEVENT
BEGIN:VEVENT
DTSTART;TZID=UTC:20240419T180000
DTEND;TZID=UTC:20240419T180000
DTSTAMP:20260421T202131
CREATED:20240415T085427Z
LAST-MODIFIED:20240415T095115Z
UID:3153-1713549600-1713549600@telekiwattaykastely.hu
SUMMARY:Hazajáró közönségtalálkozó
DESCRIPTION:Hazajáró Közönségtalálkozó 2024. április 19-én (péntek) 18 órától a Teleki-Wattay Kastély dísztermében. \nKülönösen érdekes lesz\, hogy Kenyeres Oszkár és Jakab Sándor a Pilis kapcsán is mesél az élményeiről.\nA rendezvény ingyenes\, regisztráció nincs\, minden kedves érdeklődőt nagy szeretettel várunk a Hazajáró Egylet és a Tegyük Rendbe a Várost Egyesület közös rendezvényére. \n  \n 
URL:https://telekiwattaykastely.hu/event/hazajaro-kozonsegtalalkozo/
END:VEVENT
BEGIN:VEVENT
DTSTART;TZID=UTC:20240424T180000
DTEND;TZID=UTC:20240424T180000
DTSTAMP:20260421T202131
CREATED:20240328T162835Z
LAST-MODIFIED:20240328T162835Z
UID:3086-1713981600-1713981600@telekiwattaykastely.hu
SUMMARY:Nagy zenészek\, nagy szerelmek - Bősze Ádám humoros\, zenés előadóestje
DESCRIPTION:Nagy zenészek\, nagy szerelmek. Mozart\nBeethoven\, Mozart\, Debussy\, Wagner… nevek\, amelyek hallatán azonnal díszes koncerttermek\, frakkban feszítő karmesterek\, elegáns nézőközönség sejlik fel előttünk\, és szinte érezzük a mindent körülölelő szent áhítatot.\nDe kik voltak ezek az emberek a hétköznapokban? Mi történik\, ha kivételesen nem a nagy és megközelíthetetlen alkotókat\, hanem az esendő embereket próbáljuk meglátni bennük?\nBősze Ádám zenetörténész\, antikvárius\, rádiós- és televíziós műsorvezető hosszú ideje azon dolgozik\, hogy oldja a komolyzene világára jellemző merevséget. Évek óta nagy sikerrel zajló estjei és előadás sorozatai során hatalmas tudással felvértezve és lehengerlő humorral fűszerezve segít közelebb hozni hozzánk a zenetörténet hírességeit\, hogy megérthessük\, ők is érző\, hús-vér emberek voltak\, és ugyanúgy örültek\, vágytak\, szenvedtek\, hibáztak\, mint akárki más.\nMozart és az egyedül fésülködő Weber lány.\n\nTovábbi információ:\n+36 20 480 6656\n\nJEGYEK CSAK ELŐVÉTELBEN kaphatók a következő helyeken:\n– https://tixa.hu/bosze-adam-nagy-zeneszek-pomaz\n– Teleki-Wattay Kastély\n– Szökő cukrászda\n– BonBon kávézó\n\nHelyszín:\nTeleki-Wattay Művészeti Iskola\n2013 Pomáz\, TEmplom tér 3.\nIdőpont:\n2024.04.24. (szerda) 18:00
URL:https://telekiwattaykastely.hu/event/nagy-zeneszek-nagy-szerelmek-bosze-adam-humoros-zenes-eloadoestje/
END:VEVENT
BEGIN:VEVENT
DTSTART;TZID=UTC:20240426T180000
DTEND;TZID=UTC:20240426T180000
DTSTAMP:20260421T202131
CREATED:20240415T071954Z
LAST-MODIFIED:20240415T084807Z
UID:3145-1714154400-1714154400@telekiwattaykastely.hu
SUMMARY:ÁLLÍTSUNK KERESZTET A SZÉKELY HATÁRVADÁSZOK EMLÉKÉRE!
DESCRIPTION:Állítsunk keresztet a székely határvadászok emlékére!\n– Pregitzer Fruzsina Jászai Mari díjas színművész önálló jótékonysági estje:\n„Uram\, nem látta Magyarországot?”\n– Hazajáró – filmvetítés a határvadász emléktúráról\n2024. április 26. 18 óra\nPomáz\, Teleki-Wattay Kastély (Templom tér 3.)\nTámogatói jegyek 2.500\, 5.000 és 10.000 Ft értékben a helyszínen kaphatók.\nAz est bevételét a második világháborúban a haza védelmében hősi halált halt székely határvadászok\nemlékkeresztjének elkészítésére fordítjuk\, amelyet a székelyföldi Óriás-tetőn fogunk felállítani 2024\naugusztus 11-én.\nInformáció\, jegyigénylés: kohlcenter@gmail.com\, +36 20 568 38 18\n…………………………………………\n80 éve\, 1944 augusztusában érkezett meg a szovjet Vörös Hadsereg hazánk határához. Elsőként a\nszékely határvadászok vették fel a harcot\, megpróbálva a lehetetlent az orosz hengerrel szemben.\nA székely határőrség honvédő harcainak 80. évfordulóján\, 2024 augusztus 11-én a „Határvadász\ntúrahét” keretében az Óriás-tetőn keresztállítással emlékezünk a 34-es székely határvadász\nzászlóaljra\, akik belső tartalékként a Csobányos-völgyén betörő szovjet csapatokkal vették fel a\nharcot és néhány nap alatt meghátrálásra kényszerítették a &quot;felszabadítókat&quot;.\nHonvédő katonáink hősi helytállására emlékeznünk kötelesség!\nHa nem tud részt venni a jótékonysági esten\, adományokat a MBH banknál vezetett Kohl András\n10100792-68431000-00000006 számú bankszámlámra utalással tudunk fogadni\, a közlemény\nrovatba kérem írjátok be „Óriás-tető keresztállítás”.
URL:https://telekiwattaykastely.hu/event/allitsunk-keresztet-a-szekely-hatarvadaszok-emlekere/
END:VEVENT
END:VCALENDAR