BEGIN:VCALENDAR
VERSION:2.0
PRODID:-// - ECPv6.15.20//NONSGML v1.0//EN
CALSCALE:GREGORIAN
METHOD:PUBLISH
X-ORIGINAL-URL:https://telekiwattaykastely.hu
X-WR-CALDESC:Események 
REFRESH-INTERVAL;VALUE=DURATION:PT1H
X-Robots-Tag:noindex
X-PUBLISHED-TTL:PT1H
BEGIN:VTIMEZONE
TZID:UTC
BEGIN:STANDARD
TZOFFSETFROM:+0000
TZOFFSETTO:+0000
TZNAME:UTC
DTSTART:20230101T000000
END:STANDARD
END:VTIMEZONE
BEGIN:VEVENT
DTSTART;TZID=UTC:20240524T180000
DTEND;TZID=UTC:20240614T170000
DTSTAMP:20260421T170934
CREATED:20240507T123530Z
LAST-MODIFIED:20240507T123616Z
UID:3219-1716573600-1718384400@telekiwattaykastely.hu
SUMMARY:Lélek-Tér (avagy a féktelen képzelet Világa) c. akvarell kiállítás
DESCRIPTION:Szeretettel várunk Abonyi Bea lélekfestő Lélek-Tér c. kiállítás megnyitójára Pomázon a Teleki-Wattay Kastélyban.\nA megnyitó időpontja: 2024.05.24. 18.00\n\nKözreműködők:\n– Szirmai Zsuzsanna bevezető köszöntő– Mészöly Gábor – vers– Kiss László zongora és handpan\n\nA belépés díjtalan!A kiállítás június 14-ig látogatható naponta 10-17.00 óra között.\n\nAutóval igy találsz oda:Pomáz\, Templom tér 3.\nSzeretettel várunk minden kedves érdeklődőt!
URL:https://telekiwattaykastely.hu/event/lelek-ter-avagy-a-fektelen-kepzelet-vilaga-c-akvarell-kiallitas-megnyitoja/
END:VEVENT
BEGIN:VEVENT
DTSTART;TZID=UTC:20240602T090000
DTEND;TZID=UTC:20240602T143000
DTSTAMP:20260421T170934
CREATED:20240423T131545Z
LAST-MODIFIED:20240423T131545Z
UID:3175-1717318800-1717338600@telekiwattaykastely.hu
SUMMARY:Túra a Vasas-szakadékhoz - Kastélylátogatással
DESCRIPTION:Jelentkezési határidő: 2024. május 31. (péntek)\, 17:00 óra\nA túra részleteit\, az árakat és a regisztrációs űrlapot itt találod » https://www.termeszetkozelituravezetes.hu/l/pomaz/\n\n\nFedezzük fel együtt Pomáz környékének természeti értékeit\, geológiai különlegességeit. Erre mind lehetőségünk lesz majd ezen a túrán\, hiszen a Vasas-szakadék izgalmas képződménye mellett a flora színpompás csodáit is felkutatjuk majd.\nA túra bázisaként a Teleki-Wattay Kastély szolgál majd\, ahol a túra végén lehetőség lesz egy vezetett kastélylátogatásra\, megtekinthető az épp aktuális kiállítás a galériában.\nA Kastély Étterméből – előzetesen – szendvics csomag (sonkás\, sajtos\, szalámis\, omlettes + rostos gyümölcslé) rendelhető 1.990 Ft/csomag áron\, melynek díja a helyszínen fizetendő\, illetve 12:00 és 15:00 óra között kedvezményes ebédmenü vásárolható.\nTartsatok velem\, ígérem\, jó lesz! \n– Időpont: 2024. június 2. (vasárnap)– Túra típusa: Körtúra– Látnivalók Lajos-forrás\, Csepel-forrás\, Vasas-szakadék\, Kő-hegy\, Petőfi-pihenő (panorámapont)\, Teleki-Wattay Kastély– Táv: 15 km– Szintkülönbség: 424 m– Kinek ajánlott: akár KEZDŐ túrázóknak is\n– A túrán minden résztvevő saját felelősségére vesz részt. A jelentkezés a fentiek tudomásulvételét és elfogadását jelenti. Az időjárási és/vagy a terepi viszontagságok figyelembevételével az útvonal/program változtatásának jogát fenntartom.A túra során fotók készülnek\, melyeken a résztvevők csoportosan szerepelhetnek. A fotók megjelenhetnek a NaTúra Facebook- és weboldalán egyaránt
URL:https://telekiwattaykastely.hu/event/tura-a-vasas-szakadekhoz-kastelylatogatassal/
END:VEVENT
BEGIN:VEVENT
DTSTART;TZID=UTC:20240624T180000
DTEND;TZID=UTC:20240624T180000
DTSTAMP:20260421T170934
CREATED:20240618T140804Z
LAST-MODIFIED:20240618T140804Z
UID:4629-1719252000-1719252000@telekiwattaykastely.hu
SUMMARY:METAMORFÓZIS - Saly Németh Mária festőművész kiállításának megnyitója
DESCRIPTION:A Teleki-Wattay Kastély tisztelettel meghívja az érdeklődőket Saly Németh Mária festőművész Metamorfózis c. kiállításának megnyitójára.\nA kiállítást megnyitja: Bán Blanka művészettörténész.Közreműködik: Borbély Mihály Kossuth- és Liszt Ferenc díjas klarinét és szaxofon művész.\nA kiállítás 06.24-től 07.20-ig látogatható 10-17 óráig.
URL:https://telekiwattaykastely.hu/event/metamorfozis-saly-nemeth-maria-festomuvesz-kiallitasanak-megnyitoja/
END:VEVENT
BEGIN:VEVENT
DTSTART;TZID=UTC:20240624T180000
DTEND;TZID=UTC:20240720T233000
DTSTAMP:20260421T170934
CREATED:20240618T140952Z
LAST-MODIFIED:20240618T140952Z
UID:4633-1719252000-1721518200@telekiwattaykastely.hu
SUMMARY:METAMORFÓZIS - Saly Németh Mária festőművész kiállítása
DESCRIPTION:Saly Németh Mária festőművész Metamorfózis c. kiállítása 06.24-től 07.20-ig látogatható 10-17 óráig.
URL:https://telekiwattaykastely.hu/event/metamorfozis-saly-nemeth-maria-festomuvesz-kiallitasa/
END:VEVENT
END:VCALENDAR