BEGIN:VCALENDAR
VERSION:2.0
PRODID:-// - ECPv6.15.20//NONSGML v1.0//EN
CALSCALE:GREGORIAN
METHOD:PUBLISH
X-ORIGINAL-URL:https://telekiwattaykastely.hu
X-WR-CALDESC:Események 
REFRESH-INTERVAL;VALUE=DURATION:PT1H
X-Robots-Tag:noindex
X-PUBLISHED-TTL:PT1H
BEGIN:VTIMEZONE
TZID:UTC
BEGIN:STANDARD
TZOFFSETFROM:+0000
TZOFFSETTO:+0000
TZNAME:UTC
DTSTART:20230101T000000
END:STANDARD
END:VTIMEZONE
BEGIN:VEVENT
DTSTART;VALUE=DATE:20240722
DTEND;VALUE=DATE:20240819
DTSTAMP:20260421T133004
CREATED:20240723T082514Z
LAST-MODIFIED:20240723T082514Z
UID:6162-1721606400-1724025599@telekiwattaykastely.hu
SUMMARY:György Ádám Kastélyakadémia (zártkörű rendezvény)
DESCRIPTION:
URL:https://telekiwattaykastely.hu/event/gyorgy-adam-kastelyakademia-zartkoru-rendezveny/
LOCATION:Teleki-Wattay Kastély\, Templom tér 3.\, Pomáz\, Pest\, 2013\, Magyarország
END:VEVENT
BEGIN:VEVENT
DTSTART;TZID=UTC:20240811T180000
DTEND;TZID=UTC:20240811T180000
DTSTAMP:20260421T133004
CREATED:20240809T114035Z
LAST-MODIFIED:20240809T205046Z
UID:6423-1723399200-1723399200@telekiwattaykastely.hu
SUMMARY:GYÖRGY ÁDÁM KASTÉLYAKADÉMIA KONCERT - ZENÉLNEK A NÖVENDÉKEK
DESCRIPTION:Kedves Zenerajongók! \nSzeretettel várjuk Önöket a kastélykertben 2024. augusztus 11-én\, vasárnap 18 órai kezdéssel\, ahol a GYÖRGY ÁDÁM KASTÉLYAKADÉMIA NÖVENDÉKEI ZENÉLNEK. (Érkezés 17:30 órától.) \nA részvétel ingyenes\, de előzetes regisztrációhoz kötött.  \nREGISZTRÁCIÓ:  \nhttps://forms.gle/MPXr6Z3C38sbiQFR9
URL:https://telekiwattaykastely.hu/event/gyorgy-adam-kastelyakademia-koncert-zenelnek-a-novendekek/
END:VEVENT
BEGIN:VEVENT
DTSTART;TZID=UTC:20240817T180000
DTEND;TZID=UTC:20240817T200000
DTSTAMP:20260421T133004
CREATED:20240816T164057Z
LAST-MODIFIED:20240816T164325Z
UID:6431-1723917600-1723924800@telekiwattaykastely.hu
SUMMARY:GYÖRGY ÁDÁM KASTÉLYAKADÉMIA KONCERT - ZENÉLNEK A NÖVENDÉKEK
DESCRIPTION:Kedves Zenerajongók! 🎶🎼 \nSzeretettel várja Önöket György Ádám művész úr a Teleki-Wattay Művészeti Iskola Hangversenytermében 2024. augusztus 17-én (szombaton) 18 órai kezdéssel\, ahol a KASTÉLYAKADÉMIA NÖVENDÉKEI ZENÉLNEK. (Érkezés 17:30 órától.) \nA részvétel ingyenes\, de előzetes regisztrációhoz kötött. \n🗓🖊REGISZTRÁCIÓ: \nhttps://forms.gle/B1iVxzHtkWtGW6286
URL:https://telekiwattaykastely.hu/event/gyorgy-adam-kastelyakademia-koncert-zenelnek-a-novendekek-2/
END:VEVENT
BEGIN:VEVENT
DTSTART;TZID=UTC:20240820T170000
DTEND;TZID=UTC:20240820T183000
DTSTAMP:20260421T133004
CREATED:20240729T071406Z
LAST-MODIFIED:20240729T071406Z
UID:6164-1724173200-1724178600@telekiwattaykastely.hu
SUMMARY:TATAIAK A PALETTÁN című kiállítás megnyitója!
DESCRIPTION:A Honvéd Kulturális Egyesület Képzőművészeti Tagozat Tatai Régió művészeinek kiállítása a Teleki-Wattay Kastélyban! \nA megnyitó időpontja: 2024.08.20. (kedd) 17 óra\nHelyszíne: Teleki-Wattay Kastély kiállítóterme \nA megjelenteket köszönti: Leidinger István\, Pomáz Város polgármestere \nA kiállítást megnyitja: A. Bak Péter művészeti író \nKözreműködik: Kiss László handpanen zongorán \nA kiállítás háziasszonya: Egervári Lilla művész-terapeuta \nA kiállítás megtekinthető 2024. szeptember 8-ig.
URL:https://telekiwattaykastely.hu/event/tataiak-a-palettan-cimu-kiallitas-megnyitoja/
END:VEVENT
BEGIN:VEVENT
DTSTART;TZID=UTC:20240820T170000
DTEND;TZID=UTC:20240908T233000
DTSTAMP:20260421T133004
CREATED:20240729T071608Z
LAST-MODIFIED:20240729T071608Z
UID:6168-1724173200-1725838200@telekiwattaykastely.hu
SUMMARY:TATAIAK A PALETTÁN című kiállítás
DESCRIPTION:A Honvéd Kulturális Egyesület Képzőművészeti Tagozat Tatai Régió művészeinek kiállítása a Teleki-Wattay Kastélyban! \nA megnyitó időpontja: 2024.08.20. (kedd) 17 óra\nHelyszíne: Teleki-Wattay Kastély kiállítóterme \nA megjelenteket köszönti: Leidinger István\, Pomáz Város polgármestere \nA kiállítást megnyitja: A. Bak Péter művészeti író \nKözreműködik: Kiss László handpanen zongorán \nA kiállítás háziasszonya: Egervári Lilla művész-terapeuta \nA kiállítás megtekinthető 2024. szeptember 8-ig.
URL:https://telekiwattaykastely.hu/event/tataiak-a-palettan-cimu-kiallitas/
END:VEVENT
BEGIN:VEVENT
DTSTART;TZID=UTC:20240825T180000
DTEND;TZID=UTC:20240825T193000
DTSTAMP:20260421T133004
CREATED:20240806T093226Z
LAST-MODIFIED:20240806T093349Z
UID:6415-1724608800-1724614200@telekiwattaykastely.hu
SUMMARY:Nyárbúcsúztató hangfürdő
DESCRIPTION:Augusztus végén összejövünk\, hogy kicsit megpihenjünk\, átmossuk magunkat a hangtálak rezgéseivel\, és a hangszerek egy csodás\, pihentető utazásra repítsenek. A hangtálak mellett gong\, handpan\, más egzotikus hangszerek is szerepelnek. Hozd magaddal a polifoamodat és kispárnádat. A többiről mi gondoskodunk. Fogyassz sok vizet.A hangfürdő után lehetőség van beszélgetésre\, a hangtálak\, hangszerek kipróbálására. \nA hangfürdő adományos. (Min. 4000 ft-ra számíts.)Regisztráció a lillaegerv@gmail.com címen. \nKismamáknak az első 3 hónapban\, szívritmus szabályzókkal élőknek ellenjavalt. \nSzeretettel várunk: Egervári Lilla Peter Hess hangterapeuta és Kiss László hangbűvész(A google térkép rossz helyre mutat. A Templom tér 3-at kell beírni.)
URL:https://telekiwattaykastely.hu/event/nyarbucsuztato-hangfurdo/
END:VEVENT
END:VCALENDAR