BEGIN:VCALENDAR
VERSION:2.0
PRODID:-// - ECPv6.15.20//NONSGML v1.0//EN
CALSCALE:GREGORIAN
METHOD:PUBLISH
X-ORIGINAL-URL:https://telekiwattaykastely.hu
X-WR-CALDESC:Események 
REFRESH-INTERVAL;VALUE=DURATION:PT1H
X-Robots-Tag:noindex
X-PUBLISHED-TTL:PT1H
BEGIN:VTIMEZONE
TZID:UTC
BEGIN:STANDARD
TZOFFSETFROM:+0000
TZOFFSETTO:+0000
TZNAME:UTC
DTSTART:20230101T000000
END:STANDARD
END:VTIMEZONE
BEGIN:VEVENT
DTSTART;TZID=UTC:20240820T170000
DTEND;TZID=UTC:20240908T233000
DTSTAMP:20260421T115411
CREATED:20240729T071608Z
LAST-MODIFIED:20240729T071608Z
UID:6168-1724173200-1725838200@telekiwattaykastely.hu
SUMMARY:TATAIAK A PALETTÁN című kiállítás
DESCRIPTION:A Honvéd Kulturális Egyesület Képzőművészeti Tagozat Tatai Régió művészeinek kiállítása a Teleki-Wattay Kastélyban! \nA megnyitó időpontja: 2024.08.20. (kedd) 17 óra\nHelyszíne: Teleki-Wattay Kastély kiállítóterme \nA megjelenteket köszönti: Leidinger István\, Pomáz Város polgármestere \nA kiállítást megnyitja: A. Bak Péter művészeti író \nKözreműködik: Kiss László handpanen zongorán \nA kiállítás háziasszonya: Egervári Lilla művész-terapeuta \nA kiállítás megtekinthető 2024. szeptember 8-ig.
URL:https://telekiwattaykastely.hu/event/tataiak-a-palettan-cimu-kiallitas/
END:VEVENT
BEGIN:VEVENT
DTSTART;TZID=UTC:20240913T180000
DTEND;TZID=UTC:20240927T233000
DTSTAMP:20260421T115411
CREATED:20240902T135133Z
LAST-MODIFIED:20240902T135236Z
UID:6459-1726250400-1727479800@telekiwattaykastely.hu
SUMMARY:„A TERMÉSZET ARCAI” című kiállítás
DESCRIPTION:„A TERMÉSZET ARCAI” című kiállításon Nagy Tünde festményei láthatóak. A kiállítás megtekinthető szeptember 27-ig\, naponta 9-18 óra között.\nHelyszíne: Teleki-Wattay Kastély kiállítóterme \nA kiállítást megnyitja:\nEgervári Lilla művészet-terapeuta\nKözreműködik:\nKiss László handpanen és zongorán \n  \nA kiállítás helyszíne:\nTeleki-Wattay Kastély – Galéria\n2013 Pomáz\, Templom tér 3.
URL:https://telekiwattaykastely.hu/event/a-termeszet-arcai-cimu-kiallitas-megnyitoja/
END:VEVENT
BEGIN:VEVENT
DTSTART;TZID=UTC:20240921T000000
DTEND;TZID=UTC:20240922T233000
DTSTAMP:20260421T115411
CREATED:20240925T071731Z
LAST-MODIFIED:20240925T071731Z
UID:6836-1726876800-1727047800@telekiwattaykastely.hu
SUMMARY:Kulturális Örökség Napjai
DESCRIPTION:A Kulturális Örökség Napjait és a kapcsolódó rendezvényeket szeptember 21-22-én tartják országszerte azzal a céllal\, hogy mindez közelebb hozza az emberekhez hazánk épített és kulturális örökségét\, valamint felhívja a figyelmet a megőrzésük fontosságára.\n\n\n\nE jeles alkalomból kastélytörténeti kiadvánnyal kedveskedünk mindenkinek\, aki érdeklődik a műemléki védelem alatt álló pomázi Teleki-Wattay Kastély múltja iránt. A kiadvány ingyenesen megtekinthető online a lenti linken\, valamint hamarosan nyomtatott formában is elérhető a kastély recepcióján. A nyomdai munkában külön köszönjük a Bolyki család közreműködését!\n\n\nZárógondolatként az örökségnapok hivatalos oldalát idézzük\, miszerint\, „csak azt tudjuk igazán szeretni\, aminek az értékeit jól ismerjük\, s amit jól ismerünk és szeretünk\, arról gondoskodunk”.\n\n\nFogadják és lapozzák szeretettel a Kastélytörténet című kiadványunkat!\n\n\n\nA megtekintéshez\, kérjük\, kattintson az alábbi linkre:\n\n\nhttps://telekiwattaykastely.hu/kastelytortenet/
URL:https://telekiwattaykastely.hu/event/kulturalis-orokseg-napjai/
ATTACH;FMTTYPE=image/jpeg:https://telekiwattaykastely.hu/wp-content/uploads/2024/09/459958898_1181491676827734_3276116981902496011_n.jpg
END:VEVENT
END:VCALENDAR