BEGIN:VCALENDAR
VERSION:2.0
PRODID:-// - ECPv6.15.20//NONSGML v1.0//EN
CALSCALE:GREGORIAN
METHOD:PUBLISH
X-ORIGINAL-URL:https://telekiwattaykastely.hu
X-WR-CALDESC:Események 
REFRESH-INTERVAL;VALUE=DURATION:PT1H
X-Robots-Tag:noindex
X-PUBLISHED-TTL:PT1H
BEGIN:VTIMEZONE
TZID:UTC
BEGIN:STANDARD
TZOFFSETFROM:+0000
TZOFFSETTO:+0000
TZNAME:UTC
DTSTART:20230101T000000
END:STANDARD
END:VTIMEZONE
BEGIN:VEVENT
DTSTART;TZID=UTC:20241004T183000
DTEND;TZID=UTC:20241004T183000
DTSTAMP:20260421T102555
CREATED:20240924T110433Z
LAST-MODIFIED:20240924T110637Z
UID:6825-1728066600-1728066600@telekiwattaykastely.hu
SUMMARY:Összművészeti est: koncert és kiállítás a Teleki-Wattay Kastélyban
DESCRIPTION:Szeretettel várjuk ingyenes összművészeti estünkre a Teleki-Wattay Kastélyba\, Pomázra (Templom tér 3.) október 4-én\, pénteken!Varga Zsófi képzőművész néhány éve kezdte el felépíteni az Álmok és Ébredések festményciklusát. Az alkotó által kifejlesztett monotípia-technikával készült festmények gondolati világa is egyéni\, mégis mindannyiunk számára ismerős: sejtéseinkből\, álmainkból\, közös szimbólumainkból áll össze. A művész számtalan sikeres\, kisebb és nagyobb tárlaton mutatta be az egyre bővülő anyagot; a kastély kiállítótermében most egy szűkebb válogatás lesz látható\, a legelső\, 2018-ban készült munkáktól a legújabbakig.\n18.30-tól a kiállítás helyszínén Zsófi várja a nézőket egy kötetlen beszélgetésre\, amelynek keretében szívesen válaszol a nézőkben felmerülő kérdésekre.\n19 órától gitárkoncerttel folytatódik az est\, Madarász József zeneszerző és gitárművész legújabb darabjait hallhatják; természetesen itt is lehetőség nyílik az alkotókkal való eszmecserére\,.\nKökény Zsuzsanna és Madarász József hosszú évek óta koncerteznek gitár duóként\, az utóbbi években leginkább Madarász József műveivel.\nA duók és szóló gitárdarabok stílusa változatos: a különböző műveken hol a klasszikus zenei jegyek\, hol a kortárs vagy XX. századi zene hatása\, hol magyar népzenei\, vagy éppen balkáni hatások dominálnak\, miközben a gitárra jellemző latin zenei világ is gyakran megjelenik.\n\nMindenkit sok szeretettel várunk\, reméljük\, emlékezetes és gazdag estet sikerül létrehoznunk a kultúra iránt érdeklődő közönség aktív közreműködésével!
URL:https://telekiwattaykastely.hu/event/osszmuveszeti-est-koncert-es-kiallitas-a-teleki-wattay-kastelyban/
END:VEVENT
BEGIN:VEVENT
DTSTART;TZID=UTC:20241012T100000
DTEND;TZID=UTC:20241013T170000
DTSTAMP:20260421T102555
CREATED:20240930T111209Z
LAST-MODIFIED:20241010T193423Z
UID:7117-1728727200-1728838800@telekiwattaykastely.hu
SUMMARY:Őszi Esküvő Kiállítás
DESCRIPTION:Az ország első interaktív – „pármegismerő” játékokkal és foglalkozásokkal tarkított – Esküvő Kiállítása a pomázi Teleki-Wattay Kastélyban\, közel 30 kiállítóval!\nTeljesítsetek egyszerű\, de igazán szórakoztató napi feladataink közül kettőt\, és a nap végén nyerhettek egy páros jegyesfotózást! (További részletek a helyszínen.) Az épület előtt óriási panoráma partysátor (a SATORKOLCSONZO.HU jóvoltából)\, kora estétől exkluzív épület-hangulatfestés (VARYOU)\, esküvői autómustra (LUXLINE) és prosecco (UTAZÓBÁR) vár benneteket! S mivel várunk benneteket bent?\n\nProgram:\n2024.10.12. (szombat)\n10:00 Kapunyitás – Közel 30 szolgáltató kitelepülése \n10:10 DJ MAXI KISS bemutatkozó welcome szettje\nEgész nap workshop-foglalkozások (karperec\, kitűző készítése)\n10:30 Tollas Brigitta esküvőszervező\, szertartásvezető interaktív előadása\n11:00-11:15 Tánclépések – tanuljuk meg együtt az alapokat\n11:15 Hamupipőke cipője – páros játék értékes nyereményekért\n11:30 Interjú a szolgáltatóinkkal\n11:45-12:15 Menükóstolási lehetőség\n12:15-12:30 Tortaceremónia\, minden ami a torta mögött van \n12:30-12:45 Székfoglaló játék a satorkolcsonzo.hu felajánlásával\n12:45-13:00 Esküvői ruhabemutató – Szalay Laura szépséges ruhái (Laura Szalon)\n13:15-13:45 Ruhapróba-lehetőség a Zsolnay szalonban\n13:45-14:00 Ruhabemutató – Lautner Brigitta szépséges ruhái (Lautner Bridal)\n14:00-15:15 Ruhapróba-lehetőség az összes tervező\, szalon ruháiból válogatva\n14:00-14:15 VARYOU elektronikus rendezvényapp előadás\n14:30-14:45 Ruhabemutató – Bierbauer Vivien szépséges ruhái (La Robe)\n14:45-15:15 Ruhapróba-lehetőség az összes tervező\, szalon ruháiból válogatva\n14:45-15:00 Vőfély / CM játék\n15:00-15:15 Férfi öltönymustra\n15:15-15:30 Süteménykóstoló\n15:30-15:45 Szolgáltatóink bemutatkozó interjúja\n16:00 Sorsolás következik\, ahol a játék résztvevői között páros jegyesfotózást és más értékes ajándékokat sorsolunk ki (további információ a játékról a helyszínen)\n16:30-16:40 DJ Bánhidai Attila napzáró fergeteg szettje\n\n2024.10.13. (vasárnap)\n10:00 Kapunyitás\n10:10 DJ Bánhidai Attila bemutatkozó welcome szettje\nEgész nap workshop-foglalkozások (karperec\, kitűző készítése)\n10:30 Tollas Brigitta esküvőszervező\, szertartásvezető interaktív előadása\n11:00-11:15 Tánclépések – tanuljuk meg együtt az alapokat\n11:15 Hamupipőke cipője – páros játék értékes nyereményekért\n11:30 Interjú a szolgáltatóinkkal\n11:45-12:15 Menükóstolási lehetőség\n12:15-12:30 Tortaceremónia\, minden ami a torta mögött van \n12:30-12:45 Székfoglaló játék a satorkolcsonzo.hu felajánlásával\n12:45-13:00 Esküvői ruhabemutató – Bierbauer Brigitta szépséges ruhái (La Robe)\n13:15-13:45 Ruhapróba-lehetőség a Zsolnay szalonban\n13:45-14:00 Ruhabemutató – Szalay Laura szépséges ruhái (Laura Szalon)\n14:00-15:15 Ruhapróba-lehetőség az összes tervező\, szalon ruháiból válogatva\n14:00-14:15 VARYOU elektronikus rendezvényapp előadás\n14:30-14:45 Ruhabemutató – Bierbauer Vivien szépséges ruhái  (La Robe)\n14:45-15:15 Ruhapróba-lehetőség az összes tervező\, szalon ruháiból válogatva\n14:45-15:00 Vőfély / CM játék\n15:00-15:15 Férfi öltönymustra\n15:15-15:30 Süteménykóstoló\n15:30-15:45 Interjú a szolgáltatóinkkal\n16:00 Sorsolás következik\, ahol a játék résztvevői között páros jegyesfotózást és más értékes ajándékokat sorsolunk ki (további információ a játékról a helyszínen)\n16:30-16:40 DJ Bánhidai Attila napzáró fergeteg szettje\n16:50-17:00 Fődíj sorsolása\n\nFő támogatóink: Walter Fashion férfi öltönyház\, Sátorkölcsönző – satorkolcsonzo.hu\, Kastély Étterem\, Füleki Annamária coach\, tréner (műsorvezető)\n \nIsmerd meg kiállítóinkat! \n\nMindenkit bemutatunk a kiállítás napjáig! Kattints át az eseményen belül a „Beszélgetés” aloldalra\, és ismerd meg őket!\nA jegyek előzetesen a Teleki-Wattay Kastély recepcióján (2013 Pomáz\, Templom tér 3.)\, vagy e-mailben – a belépődíj\, díjbekérőre történő utalását követően – vehetőek át (elektronikus jegy). \n\n\nJegyvásárlás és további információ: garai.monika@telekiwattaykastely.hu\nEarly bird jegyek (2024.08.30-ig): 1990 Ft/fő\nTeljes árú\, illetve helyszíni jegyek: 2500 Ft/fő\nAz első 10 párnak a belépés ingyenes! \nA kiállítás programjának változtatási jogát fenntartjuk. A kiállítás alatt készült képeket a kastély saját marketingtevékenysége kapcsán birtokolja és használja\, harmadik félnek nem adja ki. A kiállítás ideje alatti alkoholtartalmú italok fogyasztása csak 18 éven felüliek esetében lehetséges (pezsgő\, bor és koktél). Kisgyermek – felnőtt kíséret nélkül – nem vehet részt az eseményen.
URL:https://telekiwattaykastely.hu/event/oszi-eskuvo-kiallitas/
ATTACH;FMTTYPE=image/jpeg:https://telekiwattaykastely.hu/wp-content/uploads/2024/09/441866895_1099503241693245_8146438847131996603_n.jpg
END:VEVENT
BEGIN:VEVENT
DTSTART;TZID=UTC:20241016T180000
DTEND;TZID=UTC:20241016T193000
DTSTAMP:20260421T102555
CREATED:20241014T071611Z
LAST-MODIFIED:20241014T071611Z
UID:7320-1729101600-1729107000@telekiwattaykastely.hu
SUMMARY:Harmónia\, egyensúlyteremtő hangfürdő
DESCRIPTION:Ha szeretnél megszabadulni a stressztől és szívesen ringatóznál egy kellemes utazás soránvelünk Peter Hess hangtálak\, gong\, handpan és sok más érdekes hangszer keltette rezgések\, hangok bűvöletében\, tarts velünk!Hozz polifoamot\, és vizet magaddal.A program végén beszélgetésre\, a hangszerek bemutatására kerül sor. A hangtálakat ki is próbálhatod.Kismamáknak az első 3 hónapban\, és szívritmus szabályzóval élóknek ellenjavalt. A hangfürdő kiválóan alkalmas az elakadások\, blokkok feloldására\, így segíti az öngyógyító folyamat beindulását.A hangfürdő adományos. Ajánlott adomány : min. 4000 ftRegisztráció : lillaegerv@gmail.comVárunk szeretettel :Egervári Lilla Peter Hess hangterapeuta és Kiss László hangbűvész
URL:https://telekiwattaykastely.hu/event/harmonia-egyensulyteremto-hangfurdo/
ATTACH;FMTTYPE=image/jpeg:https://telekiwattaykastely.hu/wp-content/uploads/2024/10/461743984_28081591244773452_472569582053648229_n.jpg
END:VEVENT
BEGIN:VEVENT
DTSTART;TZID=UTC:20241024T190000
DTEND;TZID=UTC:20241024T190000
DTSTAMP:20260421T102555
CREATED:20240925T105726Z
LAST-MODIFIED:20240925T105726Z
UID:6871-1729796400-1729796400@telekiwattaykastely.hu
SUMMARY:Egyetlenegy vagy - Vers és valóság
DESCRIPTION:Balázs László Gábor (előadóművész-színjátékos-rendező) monodrámája Szabó Lőrinc életéből és költészetéből \nKözreműködő alkotótárs: Tiba Krisztina \n„Az 57 évet élt költőóriás\, Szabó Lőrinc rendkívül izgalmas\, pazar költészete évtizedek óta foglalkoztat. Úton-útfélen előszeretettel mondom verseit\, általuk is kifejezve önmagámmal és a világgal való kapcsolatomat. Betöltve 57. életévemet\, elérkezettnek láttam az időt\, hogy műveiből monodrámát készítsek. Jól tudom\, minden ehhez hasonló kísérlet töredékes. Mégis hiszem\, hogy ilyenkor megsejthetünk valamit az élet elfeledett titkából. Impulzív utazásra hívom a közönséget egy különleges színházi élmény reményében\, mely végsősoron minden valamirevaló színjátékos legfőbb vágya és szándéka. Tartsanak velünk.” BLG \nTeleki-Wattay Kastély (Pomáz\, Templom tér 3.) Wattay Szalon\noktóber 24. (csütörtök) 19 óra \nBelépőjegy ára: 3.300 Ft/fő\nJegyek árusítása a helyszínen!
URL:https://telekiwattaykastely.hu/event/egyetlenegy-vagy-vers-es-valosag/
END:VEVENT
BEGIN:VEVENT
DTSTART;TZID=UTC:20241027T150000
DTEND;TZID=UTC:20241027T200000
DTSTAMP:20260421T102555
CREATED:20241003T115450Z
LAST-MODIFIED:20241007T084507Z
UID:7235-1730041200-1730059200@telekiwattaykastely.hu
SUMMARY:HALLOWEENPARTY A KASTÉLYBAN
DESCRIPTION:Szellem-s programok és halloweeni borzongás a Teleki-Wattay Kastélyban október 27-én 15:00 órától! A vasárnapot a jósnővel való találkozás\, a jelmezverseny\, az ügyességi vetélkedő\, a tombola és a fotósarok teszik emlékezetessé! A farkaséhség csillapításáról a Szörnybüfé gondoskodik\, ahol a játék során szerzett pontok lefogyaszthatók. SZELLEM-S HÁTBORZONGATÁSÉRT FELELŐS A POMÁZI JELEN/LÉT TÁRSULAT ÉS A KÖZÖSEN A VÁROSUNKÉRT EGYESÜLET.\n\nAz élmény felejthetetlen\, a hangulat remek lesz\, tarts velünk Te is! Rettentően várunk! \n\n Belépőjegy:– elővételben (2024. október 26-ig\, szombatig) 1490 Ft\,– a rendezvény napján 1790 Ft.Tombola:– a rendezvény idején vásárolható a helyszínen 500 Ft-ért.\n\nJegyárusító helyszínek:– Teleki-Wattay Kastély recepció(Pomáz\, Templom tér 3.) \n\n– Bonbon csokoládébolt nyitvatartási időben(Pomáz\, Huszár u. 13. c/41.) \n\n– Szabadság Tér nyitvatartási időben(Pomáz\, Szabadság tér 6.) \n\n– Szökő Cukrászda nyitvatartási időben(Pomáz\, Ady Endre u. 4.)
URL:https://telekiwattaykastely.hu/event/halloweenparty-a-kastelyban/
END:VEVENT
END:VCALENDAR