BEGIN:VCALENDAR
VERSION:2.0
PRODID:-// - ECPv6.15.20//NONSGML v1.0//EN
CALSCALE:GREGORIAN
METHOD:PUBLISH
X-ORIGINAL-URL:https://telekiwattaykastely.hu
X-WR-CALDESC:Események 
REFRESH-INTERVAL;VALUE=DURATION:PT1H
X-Robots-Tag:noindex
X-PUBLISHED-TTL:PT1H
BEGIN:VTIMEZONE
TZID:UTC
BEGIN:STANDARD
TZOFFSETFROM:+0000
TZOFFSETTO:+0000
TZNAME:UTC
DTSTART:20230101T000000
END:STANDARD
END:VTIMEZONE
BEGIN:VEVENT
DTSTART;TZID=UTC:20241213T180000
DTEND;TZID=UTC:20250126T233000
DTSTAMP:20260421T052803
CREATED:20241207T094821Z
LAST-MODIFIED:20241207T094821Z
UID:7746-1734112800-1737934200@telekiwattaykastely.hu
SUMMARY:Papp Zsóka textilművész kiállítása
DESCRIPTION:IMPROVIZATÍV ATTRAKCIÓK TEXTILRE ÉS AKVARELLRE\nMegnyitja: Nagy Gyula fotósKözreműködik: Kiss László handpanen és zongorán\n\nA kiállítás megtekinthető 2025. január 26-ig munkanapokon és szombaton 13-18 óráig\, vasárnap 10-17 óráig.
URL:https://telekiwattaykastely.hu/event/papp-zsoka-textilmuvesz-kiallitasa/
END:VEVENT
BEGIN:VEVENT
DTSTART;TZID=UTC:20241231T180000
DTEND;TZID=UTC:20250101T050000
DTSTAMP:20260421T052803
CREATED:20241207T094415Z
LAST-MODIFIED:20241207T094535Z
UID:7752-1735668000-1735707600@telekiwattaykastely.hu
SUMMARY:Szilveszteri party a Kastélyban!
DESCRIPTION:Felejthetetlen SZILVESZTER idén is a pomázi Teleki-Wattay Kastélyban!\n\nKORLÁTLAN ITALCSOMAG mellett bulizhatunk együtt a Lovagteremben! A talpalávalót DJ MAXI KISS szolgáltatja\, a szuper játékokat pedig Várallyai Ottó műsorvezető – party animátor hozza el nektek! Éjfél után tombolasorsolással és desszertes asztallal\, a reggelig kitartóan bulizóknak pedig ajándékkal kedveskedünk!\n\nAz már biztos\, hogy éhen sem halunk\, az este folyamán a kínálatunk – a Kastély Étterem jóvoltából – SVÉDASZTALOS GÁLAVACSORA:\nKorhelylevesErdei gombás szarvasraguleves\nTatár bifsztekHideg vegyes ízelítőHázi májpástétom\nKevert salátaSavanyúság\nHázi disznótorosBőrös malacsültMarhalábszárpörköltAszalt gyümölcsökkel göngyölt csirkemell\nPárolt jázminrizsHagymás tört burgonyaPezsgős lila káposztaRösztiburgonya\nÉjfél után lencsefőzelékDesszertasztal\n\nKorlátlan italcsomag:Welcome drinkCola\, Fanta\, SIÓ alma\, SIÓ barack\, Savas és mentes vízCsapolt sör\, Jägermeister\, Uniqum szilva\, Johnnie Walker\, Jack Daniels\, Finlandia Vodka\, Aperol\, Gordon ginÉjféli pezsgő\, Forralt bor\n\nJegyárak és vásárlási információk:Jegy tartalma: Welcome ital\, korlátlan italcsomag reggelig\, gálavacsoraSzemélyes jegyvásárlás: 2013 Pomáz\, Templom tér 3. – Teleki-Wattay Kastély recepcióE-mail-ben történő jegyvásárlás: info@telekiwattaykastely.huAsztalfoglalás: a fenti e-mail címen vagy a +36308825618-as telefonszámonFelnőtt jegy: 35.000 Ft\n\nSzobafoglalás:\nA szilveszteri party után pihend ki magad nálunk! 2-3-4-5 ágyas szobáink ellátás nélkül és reggelivel is foglalhatóak\, kizárólag a partyra érkező vendégeinknek.\n\nBelépés csak előregisztrált vendégeknek!\nTovábbi információ az info@telekiwattaykastely.hu e-mail címen kérhető.\n\nTáncold át velünk az éjszakát!
URL:https://telekiwattaykastely.hu/event/szilveszteri-party-a-kastelyban/
END:VEVENT
BEGIN:VEVENT
DTSTART;TZID=UTC:20250113T183000
DTEND;TZID=UTC:20250113T200000
DTSTAMP:20260421T052803
CREATED:20231129T091131Z
LAST-MODIFIED:20250103T125834Z
UID:2809-1736793000-1736798400@telekiwattaykastely.hu
SUMMARY:KastélYoga
DESCRIPTION:Mivel is töltjük el a másfél órát?Mindenek előtt MAGUNKKAL. Órakezdő relaxációval eltávolodunk szép lassan a külvilág impulzusaitól\, gondjainktól\, és ellazult állapotban légzésünk segítségével tudatunkat lelkünkre\, testünkre irányítjuk.A jógafoglalkozás alatt a fő cél a minket ért mindennapos stressz által megrövidült\, bekeményedett izomzatunk átmozgatása\, megnyújtása\, oldása\, rugalmassá tétele. Kiemelt szerepet élvez a csípő\, a medence\, a női szerveink\, az alsó gerincszakasz tájéka és a helyes légzés.Mindezt finom női lelket inspiráló zenével segítve.Az óra végén hosszabb relaxációval jutalmazzuk meg magunk\, minden egyes porcikánkat ellazítva. Mert megérdemeljük!Így kezdjük a hetet\, hogy felfrissülve erőt merítsünk a következő napokra\, azzal a megnyugtató érzéssel\, hogy ezen alkalmakkor nem kizsákmányoltuk\, hanem megjutalmaztuk a minket csendben szolgáló testünk-lelkünk. Várunk szeretettel lelkes csapatunkba! 
URL:https://telekiwattaykastely.hu/event/kastelyoga-5/
ATTACH;FMTTYPE=image/jpeg:https://telekiwattaykastely.hu/wp-content/uploads/2023/11/KastelYoga.jpg
END:VEVENT
BEGIN:VEVENT
DTSTART;TZID=UTC:20250115T180000
DTEND;TZID=UTC:20250115T193000
DTSTAMP:20260421T052803
CREATED:20250102T091811Z
LAST-MODIFIED:20250102T091811Z
UID:7932-1736964000-1736969400@telekiwattaykastely.hu
SUMMARY:Teremtő hangfürdő
DESCRIPTION:Az év első hangfürdőjén a Peter Hess hangtálak\, gong\, handpan\, óceándob és sok más egzotikus hangszer segítségével teremtő áramlatot hozunk létre. Megfogalmazzuk mi az\, amire vágyunk az előttünk lévő évben. Aztán rábízzuk magunkat a rezgésekre. A hangfürdőre regisztrálni a lillaegerv@gmail.com címen lehet. Polifoamot hozz magaddal.Kismamáknak az első 3 hónapban nem ajánlott. Szívritmus szabályzóval élőknek\, pszichiátriai kezelés alatt állóknak ellenjavalt.A hangfürdő adományos\, minimális összeg: 4500 FtSzeretettel vár:Egervári Lilla Peter Hess hangterapeuta és Kiss László hangbűvész
URL:https://telekiwattaykastely.hu/event/teremto-hangfurdo/
END:VEVENT
BEGIN:VEVENT
DTSTART;TZID=UTC:20250124T180000
DTEND;TZID=UTC:20250124T200000
DTSTAMP:20260421T052803
CREATED:20250108T100040Z
LAST-MODIFIED:20250108T103223Z
UID:7960-1737741600-1737748800@telekiwattaykastely.hu
SUMMARY:"Legyen világosság!" PREGITZER FRUZSINA JÁSZAI MAI DÍJAS SZÍNMŰVÉSZ JÓTÉKONYSÁGI ESJTE
DESCRIPTION:„Legyen világosság! ” PREGITZER FRUZSINA JÁSZAI MARI DÍJAS SZÍNMŰVÉSZ JÓTÉKONYSÁGI ESJTE Mécs László papköltő műveiből:Mécs László\, a két világháború között alkotott szerzetes költő mind a mai napig nem nyerte el méltó helyét irodalmunkban. Hitvallásról\, kételyről -sajnos aktuálisan- a háború borzalmairól szólnak a költemények sokszor iróniával\, humorral. Bata Hajnalka népdalokkal színesíti az összeállítást\, hogy „Legyen világosság!” \nAz előadás helyszíne Pomáz Teleki-Wattay Kastély díszterme\, időpontja-a magyar kultúra napjához kötődően január 24-én 18 óra. \nA kastély a dísztermet térítésmentesen biztosítja\, ezzel támogatva a jótékony célú kezdeményezést! Az est bevétele Zalánpatak katolikus templomának szakszerű\, eredeti állapotba történő helyreállításának támogatását szolgálja. \nMinden érdeklődőt szeretettel várunk!
URL:https://telekiwattaykastely.hu/event/legyen-vilagossag-pregitzer-fruzsina-onallo-estje/
END:VEVENT
END:VCALENDAR