BEGIN:VCALENDAR
VERSION:2.0
PRODID:-// - ECPv6.15.20//NONSGML v1.0//EN
CALSCALE:GREGORIAN
METHOD:PUBLISH
X-ORIGINAL-URL:https://telekiwattaykastely.hu
X-WR-CALDESC:Események 
REFRESH-INTERVAL;VALUE=DURATION:PT1H
X-Robots-Tag:noindex
X-PUBLISHED-TTL:PT1H
BEGIN:VTIMEZONE
TZID:UTC
BEGIN:STANDARD
TZOFFSETFROM:+0000
TZOFFSETTO:+0000
TZNAME:UTC
DTSTART:20240101T000000
END:STANDARD
END:VTIMEZONE
BEGIN:VEVENT
DTSTART;TZID=UTC:20250207T180000
DTEND;TZID=UTC:20250302T000000
DTSTAMP:20260421T021816
CREATED:20250120T133527Z
LAST-MODIFIED:20250120T133558Z
UID:8018-1738951200-1740873600@telekiwattaykastely.hu
SUMMARY:Budai Tímea „A színek szerelmese” című festménykiállítása
DESCRIPTION:Megnyitó időpontja: 2025.02.07. (péntek) 18:00 óra \nHelyszín: Teleki-Wattay Kastély kiállítóterme – 2013 Pomáz\, Templom tér 3. \nMegnyitja: Nagy Gyula fotós \nKözreműködik: Kiss László handpanen és zongorán \nAz est házigazdája: Egervári Lilla művészetterapeuta \n  \nA kiállítás március 2-ig ingyenesen látogatható\, hétköznapokon 8-18 óra között\, hétvégén 12-18 óra között. \nA festmények megvásárolhatóak. \nSzeretettel várunk minden érdeklődőt.
URL:https://telekiwattaykastely.hu/event/budai-timea-a-szinek-szerelmese-cimu-festmenykiallitasa/
END:VEVENT
BEGIN:VEVENT
DTSTART;TZID=UTC:20250308T100000
DTEND;TZID=UTC:20250308T160000
DTSTAMP:20260421T021816
CREATED:20250224T092834Z
LAST-MODIFIED:20250224T092834Z
UID:8334-1741428000-1741449600@telekiwattaykastely.hu
SUMMARY:Esküvőszervezők országos találkozója
DESCRIPTION:Kedves Esküvőszervezők!\n\nÖrömmel meghívunk Titeket az Esküvőszervezők Országos Találkozójára – 2025.03.08\, 10-16 óra között – \, amely egy igazán különleges napot ígér a festői Pomázon\, a gyönyörű Teleki-Wattay Kastélyban!\n A rendezvény során számos izgalmas program vár Titeket:Közös ebéd\, ahol kötetlenül beszélgethetünk és megismerhetjük egymást.Ruhatervezők bemutatkozója\, ahol a legújabb esküvői trendekkel ismerkedhettek meg.Smink alaptanfolyam\, hogy még jobban elmélyedhessetek a szépség világában és az esküvői sminkek terén. Ráadásul mutatunk számos praktikát is\, hogyan tudod a smink kríziseket uralni!LED-padló bemutató\, hogy ne maradjatok le a szezon kedvelt újdonságáról!… és még sok meglepetés vár rátok! A nap második felében egy különleges kerekasztal-beszélgetés következik\, ahol különböző témákban oszthatjuk meg tapasztalatainkat és ötleteinket\, hogy még sikeresebbek lehessünk az esküvői iparágban.Van témajavaslatod? – Ne habozzatok elküldeni a szervezőknek (info@twk.hu) Messzebbről érkezel? Ne aggódj! A kastély 15 panzió jellegű szobával rendelkezik\, amelyek erre a napra kedvezményes áron foglalhatók!Tarts velünk egy inspiráló és hasznos alkalomra\, ahol nemcsak új szakmai ismeretekkel gazdagodhatsz\, de remek kapcsolatokat is építhetsz más esküvőszervezőkkel!\n Jelentkezés:\nKérjük\, jelezd részvételi szándékodat e-mailben – info@twk.hu -\, hogy biztosítani tudjuk számodra a helyet! Jelentkezési határidő: 2025.03.06.Belépőjegy:\n15.000 Ft\, mely tartalmazza a programokon való részvételt\, a svédasztalos ebédet\, valamint az ingyenes parkolást. Az e-mailben történt regisztrációt követően a belépőjegyeket elektronikus úton juttatjuk el hozzád.\n\nVárunk szeretettel!
URL:https://telekiwattaykastely.hu/event/eskuvoszervezok-orszagos-talalkozoja/
END:VEVENT
BEGIN:VEVENT
DTSTART;TZID=UTC:20250314T180000
DTEND;TZID=UTC:20250314T180000
DTSTAMP:20260421T021816
CREATED:20250314T124541Z
LAST-MODIFIED:20250314T124541Z
UID:8579-1741975200-1741975200@telekiwattaykastely.hu
SUMMARY:Mezei Sándor Örömfestészet - Útkeresés című kiállításának megnyitója
DESCRIPTION:Szeretettel meghívjuk Mezei Sándor Örömfestészet- Útkeresés című kiállításának megnyitójára\, ahol a festmények mellett tűzzománc alkotások is láthatók.\nA kiállítást megnyitja Lukács Tibor festőművész Handpanen és zongorán közreműködik: Kiss László\nA kiállítás megtekinthető április 9-ig hétköznapokon 9-18 óráig\, hétvégén 13-18 óráig.\n\nA megnyitó időpontja:2025.03.14. (péntek) 18:00\n\nHelyszín:Teleki -Wattay Kastély2013 Pomáz\, Templom tér 3.\n\nwww.msmester.euwww.szentendreingold.com+36309504187
URL:https://telekiwattaykastely.hu/event/mezei-sandor-oromfesteszet-utkereses-cimu-kiallitasanak-megnyitoja/
END:VEVENT
BEGIN:VEVENT
DTSTART;TZID=UTC:20250314T180000
DTEND;TZID=UTC:20250409T233000
DTSTAMP:20260421T021816
CREATED:20250314T124705Z
LAST-MODIFIED:20250314T124705Z
UID:8582-1741975200-1744241400@telekiwattaykastely.hu
SUMMARY:Mezei Sándor Örömfestészet - Útkeresés című kiállítása
DESCRIPTION:Szeretettel meghívjuk Mezei Sándor Örömfestészet- Útkeresés című kiállítására\, ahol a festmények mellett tűzzománc alkotások is láthatók.\nA kiállítás megtekinthető április 9-ig hétköznapokon 9-18 óráig\, hétvégén 13-18 óráig.\n\nHelyszín:Teleki -Wattay Kastély2013 Pomáz\, Templom tér 3.
URL:https://telekiwattaykastely.hu/event/mezei-sandor-oromfesteszet-utkereses-cimu-kiallitasa/
END:VEVENT
BEGIN:VEVENT
DTSTART;TZID=UTC:20250319T180000
DTEND;TZID=UTC:20250319T193000
DTSTAMP:20260421T021816
CREATED:20250318T074658Z
LAST-MODIFIED:20250318T074734Z
UID:8584-1742407200-1742412600@telekiwattaykastely.hu
SUMMARY:Tavaszi megújulás hangfürdő
DESCRIPTION:Ehavi hangfürdőnkön az újjászületést\, szervezetünk megújítását helyezzük a középpontba. A Peter Hess hangtálak rezgései\, a gong\, handpan és más egzotikus hangszerek segítik az utazásunkat\, a megmerítkezésünket a hangokban\, rezgésekben. A pihentető utazás során az energiablokkok oldódhatnak\, beindul az öngyógyító folyamat.Hozz magaddal polifoamot\, fogyassz sok vizet.Jelentkezz be a lillaegerv@gmail.comcímen.Kérünk\, gyere egy negyed órával korábban.A hangfürdő adományos\, ajánlott adomány: min. 4500 ftSzeretettel várunk!Egervári Lilla Peter Hess hangterapeuta és Kiss László hangbűvészKismamáknak az első 3 hónapban nem ajánlott. Szívritmus szabályozóval élőknek ellenjavalt.
URL:https://telekiwattaykastely.hu/event/tavaszi-megujulas-hangfurdo-2/
ATTACH;FMTTYPE=image/jpeg:https://telekiwattaykastely.hu/wp-content/uploads/2025/03/484848647_29953931427539415_8664967572580921092_n.jpg
END:VEVENT
END:VCALENDAR