BEGIN:VCALENDAR
VERSION:2.0
PRODID:-// - ECPv6.15.20//NONSGML v1.0//EN
CALSCALE:GREGORIAN
METHOD:PUBLISH
X-ORIGINAL-URL:https://telekiwattaykastely.hu
X-WR-CALDESC:Események 
REFRESH-INTERVAL;VALUE=DURATION:PT1H
X-Robots-Tag:noindex
X-PUBLISHED-TTL:PT1H
BEGIN:VTIMEZONE
TZID:UTC
BEGIN:STANDARD
TZOFFSETFROM:+0000
TZOFFSETTO:+0000
TZNAME:UTC
DTSTART:20240101T000000
END:STANDARD
END:VTIMEZONE
BEGIN:VEVENT
DTSTART;TZID=UTC:20250501T100000
DTEND;TZID=UTC:20250501T100000
DTSTAMP:20260420T225956
CREATED:20250428T120739Z
LAST-MODIFIED:20250428T120920Z
UID:8664-1746093600-1746093600@telekiwattaykastely.hu
SUMMARY:Pomázi körtúra (NaTúra - Menyhárt Regina túravezető szervezésében)
DESCRIPTION:A túra előzetes regisztrációhoz kötött. A részleteket és a regisztrációs űrlapot itt éred el: \nhttps://www.termeszetkozelituravezetes.hu/l/pomazkastely/\n\nA túra bázisaként ezúttal is a Teleki-Wattay Kastély szolgál majd\, ahol a túra végén lehetőség lesz egy vezetett kastélylátogatásra\, megtekinthető az épp aktuális kiállítás a galériában. A Kastély Étterméből – előzetesen – szendvics csomag (sonkás\, sajtos\, szalámis\, omlettes + rostos gyümölcslé) rendelhető 1.990 Ft/csomag áron\, melynek díja a helyszínen fizetendő\, illetve 12:00 és 15:00 óra között kedvezményes ebédmenü vásárolható.\nTartsatok velem\, ígérem\, jó lesz!\n\nIdőpont: 2025. május 1. (csütörtök)\nTalálkozó: 10:00 – Teleki-Wattay Kastély terasza; (parkoló: Pomáz\, Templom tér 3.)\nLátnivalók: Lajos-forrás\, Csepel-forrás\, Vasas-szakadék\, Kő-hegy\, Petőfi-pihenő (panorámapont)\, Teleki-Wattay Kastély\nKinek ajánlott: akár KEZDŐ túrázóknak is\nJelentkezési határidő: 2025. április 30. (szerda) 18:00 óra\n\nNaTúra – Menyhárt Regina túravezető
URL:https://telekiwattaykastely.hu/event/pomazi-kortura-natura-menyhart-regina-turavezeto-szervezeseben/
END:VEVENT
BEGIN:VEVENT
DTSTART;TZID=UTC:20250506T000000
DTEND;TZID=UTC:20250506T000000
DTSTAMP:20260420T225956
CREATED:20250516T095022Z
LAST-MODIFIED:20250527T085548Z
UID:8769-1746489600-1746489600@telekiwattaykastely.hu
SUMMARY:A Pomázi Ökokör szervezésében útjára indult a színes kavicslánc kezdeményezés!
DESCRIPTION:A Pomázi Ökokör szervezésében május 10-én\, a Madarak és Fák Napja alkalmából útjára indult Pomázon a színes kavicslánc kezdeményezést – méghozzá rögtön két helyszínen\, a Teleki-Wattay Kastélynál és az Árpád-kilátónál. Azóta már több ovis csoport és család is csatlakozott\, és a kavicsok szépen sorakoznak egymás mögé. Egyre kanyargósabb\, egyre vidámabb a kavicssor – és mi nagyon örülünk neki! \n\n\n Te is csatlakoznál?\nLátogasd meg a két helyszín egyikét\, és ha van kedved\, hozz magaddal egy-két színes kavicsot! Rakd a sor végére\, és legyen még hosszabb ez a közös örömlánc!\n\n\nPomázi Ökokör Facebook oldala: www.facebook.com/pomaziokokor
URL:https://telekiwattaykastely.hu/event/a-pomazi-okokor-szervezeseben-utjara-indult-a-szines-kavicslanc-kezdemenyezes/
END:VEVENT
BEGIN:VEVENT
DTSTART;TZID=UTC:20250507T180000
DTEND;TZID=UTC:20250507T192000
DTSTAMP:20260420T225956
CREATED:20250411T093906Z
LAST-MODIFIED:20250411T094025Z
UID:8650-1746640800-1746645600@telekiwattaykastely.hu
SUMMARY:Komfort Könyvklub
DESCRIPTION:Szeretettel várnak a szervezők mindenkit a Komfort Könyvklub Pomázban! \n Összetartó\, elfogadó közösség\, ahova jó tartozni Könyvek minden mennyiségben Beszélgetés írókkal Havi közös könyv\, oszd meg az élményt másokkal!  Apró havi meglepetések \nLegközelebbi alkalmunk május 7-én\, szerdán 18:00 órakor lesz.\nÁprilisi közös könyvünk Forró Bencétől a Kérésztánc.\n Hamarosan ellátogat hozzánk a szerző!\n\nVárunk benneteket szeretettel a csoportunkban\, ahol több érdekességet is megtudhattok. \nhttps://www.facebook.com/groups/488380643867183/?ref=share
URL:https://telekiwattaykastely.hu/event/komfort-konyvklub-2/
END:VEVENT
BEGIN:VEVENT
DTSTART;TZID=UTC:20250508T180000
DTEND;TZID=UTC:20250508T180000
DTSTAMP:20260420T225956
CREATED:20250424T135042Z
LAST-MODIFIED:20250424T135150Z
UID:8654-1746727200-1746727200@telekiwattaykastely.hu
SUMMARY:Sashegyi Sándor Általános Iskola és Gimnázium „MŰVÉSZTANÁROK MŰVÉSZPALÁNTÁK” kiállításának megnyitója
DESCRIPTION:Kiállító művésztanárok: \nHlavacska Orsolya művészterapeuta\, vizuáliskultúra-tanár \nParcz Anna népi iparművész\, keramikus\, vizuáliskultúra-tanár \nSeres János szobrászművész\, technika- és plasztikatanár \nHorváth Mónika szaxofonművész \n  \nA kiállítást megnyitja: \nFehér Julianna színművész \nKözreműködnek: \nAz iskola diákjai \n  \nA kiállítás időpontja: 2025.05.08. (csütörtök) 18 óra \nHelyszín: a Teleki-Wattay Kastély kiállítóterme \n 
URL:https://telekiwattaykastely.hu/event/sashegyi-sandor-altalanos-iskola-es-gimnazium-muvesztanarok-muveszpalantak-kiallitasanak-megnyitoja/
END:VEVENT
BEGIN:VEVENT
DTSTART;TZID=UTC:20250523T140000
DTEND;TZID=UTC:20250524T200000
DTSTAMP:20260420T225956
CREATED:20250521T092050Z
LAST-MODIFIED:20250521T092200Z
UID:8794-1748008800-1748116800@telekiwattaykastely.hu
SUMMARY:Szabadulószobázz fél áron a Tesla nap alkalmából!
DESCRIPTION:A kihagyhatatlan\, 50%-os kedvezmény további részletei: \nhttps://telekiwattaykastely.hu/szabaduloszoba/
URL:https://telekiwattaykastely.hu/event/szabaduloszobazz-fel-aron-a-tesla-nap-alkalmabol/
END:VEVENT
BEGIN:VEVENT
DTSTART;TZID=UTC:20250523T150000
DTEND;TZID=UTC:20250523T200000
DTSTAMP:20260420T225956
CREATED:20250514T094116Z
LAST-MODIFIED:20250514T144824Z
UID:8708-1748012400-1748030400@telekiwattaykastely.hu
SUMMARY:TESLA NAP a Pomázi Szerb Nemzetiségi Önkormányzat\, Pomáz Város Önkormányzata szervezésében
DESCRIPTION:A Pomázi Szerb Nemzetiségi Önkormányzat\, Pomáz Város Önkormányzata szeretettel meghívja Önöket a világhírű feltaláló\, Nikola Tesla\, emlékére rendezendő TESLA NAP-ra Pomázon \n\n\n\nIdőpont: 2025. május 23. péntek\n\n\n15.00-16.00 – Teleki Wattay Művészeti Iskola kamaraterem\n„Korabeli Tesla kísérletek korabeli eszközökön”\nA Fénymúzeum Alapítvány interaktív bemutatója\n\n\n\n16.30 – Ivóvízkút ünnepélyes átadása a Városháza parkjában\n\n\n\n17.30 – Ünnepélyes koszorúzás a Tesla emlékműnél a Teleki-Wattay Kastély parkjában\n\n\n\n18.00 – „A villamos energia atyja Pоmázon”\n\n\nIrodalmi-zenei est Dobrivoje Pavlica és Đurđica Borić előadásában\, Radovan Marić harmonikaművész kíséretében.\n(Dobrivoje Pavlica\, likai születésű szerző és a társszerző\, Đurđica\, Nikola Tesla szellemi kulturális örökségének őrzői)\nHelyszín: Teleki-Wattay Kastély – Wattay szalon (2013 Pomáz\, Templom tér 3.)\n\n\n———————————————————————————————————————————————————\n\nKIHAGYHATATLAN LEHETŐSÉG!  \nSZABADULÓSZOBÁZZ FÉL ÁRON (50%-os kedvezménnyel)  \nmájus 23-án\, pénteken és május 24-én\, szombaton  \na TESLA NAP alkalmából!  \nÉszbontóan jó logikai csapatjáték kezdőknek és haladóknak egyaránt!  \n2 fő részvételi díja:\n16.000 Ft helyett 8.000 Ft \n3-5 fő részvételi díja:\n22.000 Ft helyett 11.000 Ft \n6-8 fő részvételi díja:\n25.000 Ft helyett 12.500 Ft \nIDŐPONTFOGLALÁS: https://telekiwattaykastely.hu/szabaduloszoba/
URL:https://telekiwattaykastely.hu/event/8708/
END:VEVENT
BEGIN:VEVENT
DTSTART;TZID=UTC:20250531T110000
DTEND;TZID=UTC:20250531T170000
DTSTAMP:20260420T225956
CREATED:20250429T121014Z
LAST-MODIFIED:20250429T121529Z
UID:8672-1748689200-1748710800@telekiwattaykastely.hu
SUMMARY:Gyereknapi Vigalom – Második Felvonás!
DESCRIPTION: Gyereknapi Vigalom – Második Felvonás! \n 2025. május 31. (szombat) |  11:00–17:00\n Teleki-Wattay Kastély\, Pomáz\n\nTavaly imádtátok – idén még több móka\, nevetés és meglepetés vár! \n\n A programból:\n\n Csúzli – Célozz és találj! Győzd le a sárkányt! – Légy a nap hőse! \n Lökd meg a kecskét – A legvidámabb kihívás! \n\n Zsákdobálás – Ügyességi játék minden korosztálynak\n Kastély Quiz – 10 kérdéses tudáspróba\n A helyes megoldásokért ajándék jár\, amit a recepción vehettek át!\n Kézműves asztal – ahol kibontakozhat a kreativitásod!\n Ajándék az első 50 gyermeknek: Buborékfújó és Csinta gyümölcsszelet\n Kedvezményes gyermekmenü a Kastély Étteremben – 2790 Ft/gyermek:\n Bolognai spagetti szívószálas üdítővel\n  Csirke nuggets sültkrumplival\, szívószálas üdítővel\n  Udvari kirakodóvásár – ahol a gyerekek szeme biztosan felcsillan:\n Vattacukor\n Popcorn\n Héliumos lufi\n LED-es villogó kiegészítők\n Egész napos ingyenes Palacsinta Bár – az érkező családoknak\, amíg a készlet tart!\n Pihenés és mese: Ha szeretnétek egy kis pihenést\, látogassatok el a Wattay szalonba\, ahol Wass Albert hangosmeséje mellett pihenhettek egy kicsit\, és élvezhetitek a mesék varázslatos világát. \n Tombola – értékes nyereményekkel! Ne hagyjátok ki a sorsolást!\n\n Belépődíj:\nFelnőtt: 500 Ft\nGyermek: 300 Ft\nA jegy ára tartalmazza a programokon való részvételt. Az éttermi\, popcorn\, vattacukor fogyasztást nem tartalmazza.\n\n  Parkolás: Ingyenes a kastély vendégparkolójában\n Egy igazi családi nap\, ahol a jókedv garantált – kicsiknek és nagyoknak egyaránt!\n Ne hagyjátok ki! Jelöljétek be\, ha jöttök\, hívjátok meg a barátokat is\, és találkozzunk május 31-én a kastély parkjában!\n\n\n  Fontos információk: – A gyermekek a program ideje alatt szülői felügyelet nélkül nem tartózkodhatnak a kastély parkjában és épületében. – A rendezvény teljes időtartama alatt szeszesitalt nem forgalmazunk. – A program ideje alatt kép- és videófelvétel készülhet\, melyet a kastély kizárólag saját marketinganyagaiban használ fel\, harmadik fél számára nem kerül átadásra.
URL:https://telekiwattaykastely.hu/event/gyereknap/
END:VEVENT
END:VCALENDAR