BEGIN:VCALENDAR
VERSION:2.0
PRODID:-// - ECPv6.15.20//NONSGML v1.0//EN
CALSCALE:GREGORIAN
METHOD:PUBLISH
X-ORIGINAL-URL:https://telekiwattaykastely.hu
X-WR-CALDESC:Események 
REFRESH-INTERVAL;VALUE=DURATION:PT1H
X-Robots-Tag:noindex
X-PUBLISHED-TTL:PT1H
BEGIN:VTIMEZONE
TZID:UTC
BEGIN:STANDARD
TZOFFSETFROM:+0000
TZOFFSETTO:+0000
TZNAME:UTC
DTSTART:20240101T000000
END:STANDARD
END:VTIMEZONE
BEGIN:VEVENT
DTSTART;TZID=UTC:20250601T170000
DTEND;TZID=UTC:20250601T183000
DTSTAMP:20260420T211555
CREATED:20250521T091624Z
LAST-MODIFIED:20250521T091659Z
UID:8786-1748797200-1748802600@telekiwattaykastely.hu
SUMMARY:MEGNYITÓ - KISS ATTILA ANDRÁS dr. festményei a Teleki-Wattay Kastély galériájában
DESCRIPTION:2O25. június 1-jén (vasárnap) 17:00 órakor a kiállítást megnyitja Kocsi László ezredes a Honvéd Kulturális Egyesület közművelődési tagozatvezetője. \nA megnyitón közreműködik Kiss László (zongora\, handpan). \nA kiállítás megtekinthető 2025. június 1-12-ig minden nap 8:00-20:00-ig. \nHelyszín: 2013 Pomáz\, Templom tér 3.\, Teleki-Wattay Kastély Galériája
URL:https://telekiwattaykastely.hu/event/megnyito-kiss-attila-andras-dr-festmenyei-a-teleki-wattay-kastely-galeriajaban/
END:VEVENT
BEGIN:VEVENT
DTSTART;TZID=UTC:20250601T170000
DTEND;TZID=UTC:20250612T170000
DTSTAMP:20260420T211555
CREATED:20250521T091850Z
LAST-MODIFIED:20250521T091856Z
UID:8791-1748797200-1749747600@telekiwattaykastely.hu
SUMMARY:KISS ATTILA ANDRÁS dr. festményei a Teleki-Wattay Kastély galériájában
DESCRIPTION:KISS ATTILA ANDRÁS dr. festményei a Teleki-Wattay Kastély galériájában megtekinthetőek 2025. június 1-12-ig minden nap 8:00-20:00-ig.
URL:https://telekiwattaykastely.hu/event/megnyito-kiss-attila-andras-dr-festmenyei-a-teleki-wattay-kastely-galeriajaban-2/
END:VEVENT
BEGIN:VEVENT
DTSTART;TZID=UTC:20250612T180000
DTEND;TZID=UTC:20250612T180000
DTSTAMP:20260420T211555
CREATED:20250604T130807Z
LAST-MODIFIED:20250604T130807Z
UID:8825-1749751200-1749751200@telekiwattaykastely.hu
SUMMARY:Aradi Éva - Keletkutatóink Indiában című könyvének bemutatója
DESCRIPTION: Szeretettel várunk minden kedves érdeklődőt Aradi Éva legújabb\, a Keletkutatóink Indiában című könyvének bemutatójára!Aradi Éva sok évig élt Indiában\, évtizedeken keresztül kutatta az ország történelmét\, kultúráját. Kutatta az ázsiai hunok szerepét India történelmében\, a heftalitákat (a fehér hunokat)\, a kusánokat. Indiai kutatásaiért két állami kitüntetést kapott – először Indira Gandhi\, akkori miniszterelnöktől\, majd Shankar Dayal Sharma államelnöktől. Munkásságáért életműdíjat vehetett át az indiai kulturális minisztertől egy New Yorkban rendezett nemzetközi hindi konferencián.  Keletkutatóink Indiában című könyvének bemutatója Pomázon lesz a Teleki-Wattay Kastélyban.\n\nIdőpont: 2025. június 12. 18 óra\n\nA bemutató után lehetőség lesz a könyv kedvezményes megvásárlására\, és dedikáltatásra.
URL:https://telekiwattaykastely.hu/event/aradi-eva-keletkutatoink-indiaban-cimu-konyvenek-bemutatoja/
END:VEVENT
BEGIN:VEVENT
DTSTART;TZID=UTC:20250615T080000
DTEND;TZID=UTC:20250625T170000
DTSTAMP:20260420T211555
CREATED:20250616T093055Z
LAST-MODIFIED:20250616T093055Z
UID:8840-1749974400-1750870800@telekiwattaykastely.hu
SUMMARY:Zártkörű esemény
DESCRIPTION:
URL:https://telekiwattaykastely.hu/event/zartkoru-esemeny/
END:VEVENT
END:VCALENDAR