BEGIN:VCALENDAR
VERSION:2.0
PRODID:-// - ECPv6.15.20//NONSGML v1.0//EN
CALSCALE:GREGORIAN
METHOD:PUBLISH
X-ORIGINAL-URL:https://telekiwattaykastely.hu
X-WR-CALDESC:Események 
REFRESH-INTERVAL;VALUE=DURATION:PT1H
X-Robots-Tag:noindex
X-PUBLISHED-TTL:PT1H
BEGIN:VTIMEZONE
TZID:UTC
BEGIN:STANDARD
TZOFFSETFROM:+0000
TZOFFSETTO:+0000
TZNAME:UTC
DTSTART:20240101T000000
END:STANDARD
END:VTIMEZONE
BEGIN:VEVENT
DTSTART;TZID=UTC:20250704T180000
DTEND;TZID=UTC:20250704T180000
DTSTAMP:20260420T193806
CREATED:20250619T082927Z
LAST-MODIFIED:20250704T095732Z
UID:8842-1751652000-1751652000@telekiwattaykastely.hu
SUMMARY:Vadon\, Reök Cecília kiállításmegnyitója
DESCRIPTION:A kiállítást 2025. július 4-én (pénteken) 18:00 órakor megnyitja Szakács Annamária\, művészettörténész (Magyar Nemzeti Múzeum). \nHelyszín: a Teleki Wattay Kastély galériája \nA kiállított olajfestmények a természet szépségének absztrahált vetületei. Az öko-vásznakon megjelennek a művész saját aspektusán át érzékelve a vadon apró részleteitől egészen a távoli nézőpontokból szemlélt tájak élményei. \nReök Cecília mesterdiplomáját a Moholy-Nagy Művészeti Egyetemen szerezte meg\, majd az egyetem Mesterképzésének az Öko – Kurzusának alapítója (2018.) tananyagának írója és oktatója lett. \nA Magyar Tudományos Akadémia – Ökológiai Kutatóközpont számár az „Öko-művészet jelentősége” című szakmai anyag írója és előadója (2018.). \nA Magyar Népi Iparművészeti Múzeum számára az „Öko-művészet – ökológiai egyensúly alapú alkotás” című oktatási tanagyag írója és előadója (2020.). \nA Parlament Nemzeti Fenntartható Fejlődési Tanácsa számára az\, „Öko-művészet” című szakmai anyag írója és előadója (2020.). \nA Művészet a Jövőért – Nemzetközi Öko-Művészeti Fesztivál / Art For Future – International Eco-Art Festival alapítója és művészeti vezetője\, amely 2009. óta évi rendszerességgel megvalósul Magyarországi illetve külföldi helyszíneken\, például Budapest\, Gödöllő\, Kaposvár\, Miskolc\, Gárdony\, Mór\, Los Angeles\, San Francisco\, San Diego\, Bécs. A környezettudatos művészeti rendezvénysorozat célja a fenntarthatóságot és a társadalmi szemléletváltást elősegítő művészet és design bemutatása\, nemzetközi interkulturális párbeszéd generálása\, amely első sorban az iparművészet\, képzőművészet\, tudomány\, innováció\, környezetvédelem területeit öleli magába. A 15 éves múlttal rendelkező Fesztivál eddig 40 ország környezettudatos művészeinek és intézményeinek az együttműködésével illetve támogatásával valósult meg\, melyek között nagykövetségek\, minisztériumok\, múzeumok\, kulturális intézetek és egyetemek képviseltették magukat. \nAz elmúlt 15 évben az ökológiai szempontból elkötelezett művészet területén alkot és oktat. Alkotómunkájában mindig fellelhető a természet szeretete és a felelősségvállalás jelentősége\, amely az ökológiai szempontok mentén\, a társadalmi problémákra is reflektáló\, átfogó szándékként van jelen szakmai munkájában. Alkotásai sok egyéni és csoportos kiállításon szerepelnek Magyarországon és külföldön\, melyek között széles a spektrum\, azonban minden munkájában megjelenő környezettudatos szemlélet\, harmonikus egységbe rendezi alkotótevékenységének eredményeit. \nceciliareok.com \n 
URL:https://telekiwattaykastely.hu/event/vadon-reok-cecilia-kiallitasa-a-teleki-wattay-kastely-galeriajaban/
END:VEVENT
BEGIN:VEVENT
DTSTART;TZID=UTC:20250704T180000
DTEND;TZID=UTC:20250720T200000
DTSTAMP:20260420T193806
CREATED:20250704T095632Z
LAST-MODIFIED:20250704T095649Z
UID:8872-1751652000-1753041600@telekiwattaykastely.hu
SUMMARY:Vadon\, Reök Cecília kiállítása
DESCRIPTION:A kiállítást 2025. július 4-én (pénteken) 18:00 órakor megnyitja Szakács Annamária\, művészettörténész (Magyar Nemzeti Múzeum). Helyszín: a Teleki Wattay Kastély galériája \nA kiállított olajfestmények a természet szépségének absztrahált vetületei. Az öko-vásznakon megjelennek a művész saját aspektusán át érzékelve a vadon apró részleteitől egészen a távoli nézőpontokból szemlélt tájak élményei. \nReök Cecília mesterdiplomáját a Moholy-Nagy Művészeti Egyetemen szerezte meg\, majd az egyetem Mesterképzésének az Öko – Kurzusának alapítója (2018.) tananyagának írója és oktatója lett. \nA Magyar Tudományos Akadémia – Ökológiai Kutatóközpont számár az „Öko-művészet jelentősége” című szakmai anyag írója és előadója (2018.). \nA Magyar Népi Iparművészeti Múzeum számára az „Öko-művészet – ökológiai egyensúly alapú alkotás” című oktatási tanagyag írója és előadója (2020.). \nA Parlament Nemzeti Fenntartható Fejlődési Tanácsa számára az\, „Öko-művészet” című szakmai anyag írója és előadója (2020.). \nA Művészet a Jövőért – Nemzetközi Öko-Művészeti Fesztivál / Art For Future – International Eco-Art Festival alapítója és művészeti vezetője\, amely 2009. óta évi rendszerességgel megvalósul Magyarországi illetve külföldi helyszíneken\, például Budapest\, Gödöllő\, Kaposvár\, Miskolc\, Gárdony\, Mór\, Los Angeles\, San Francisco\, San Diego\, Bécs. A környezettudatos művészeti rendezvénysorozat célja a fenntarthatóságot és a társadalmi szemléletváltást elősegítő művészet és design bemutatása\, nemzetközi interkulturális párbeszéd generálása\, amely első sorban az iparművészet\, képzőművészet\, tudomány\, innováció\, környezetvédelem területeit öleli magába. A 15 éves múlttal rendelkező Fesztivál eddig 40 ország környezettudatos művészeinek és intézményeinek az együttműködésével illetve támogatásával valósult meg\, melyek között nagykövetségek\, minisztériumok\, múzeumok\, kulturális intézetek és egyetemek képviseltették magukat. \nAz elmúlt 15 évben az ökológiai szempontból elkötelezett művészet területén alkot és oktat. Alkotómunkájában mindig fellelhető a természet szeretete és a felelősségvállalás jelentősége\, amely az ökológiai szempontok mentén\, a társadalmi problémákra is reflektáló\, átfogó szándékként van jelen szakmai munkájában. Alkotásai sok egyéni és csoportos kiállításon szerepelnek Magyarországon és külföldön\, melyek között széles a spektrum\, azonban minden munkájában megjelenő környezettudatos szemlélet\, harmonikus egységbe rendezi alkotótevékenységének eredményeit. \nceciliareok.com \n 
URL:https://telekiwattaykastely.hu/event/vadon-reok-cecilia-kiallitasa/
END:VEVENT
BEGIN:VEVENT
DTSTART;TZID=UTC:20250705T160000
DTEND;TZID=UTC:20250705T160000
DTSTAMP:20260420T193806
CREATED:20250704T095417Z
LAST-MODIFIED:20250723T104558Z
UID:8868-1751731200-1751731200@telekiwattaykastely.hu
SUMMARY:Komfort Könyvklub Pomáz: Gárdos Péterrel beszélgetünk frissen megjelent regénye a Hamisítók kapcsán!
DESCRIPTION:Gárdos Péterrel beszélgetünk frissen megjelent regénye a Hamisítók kapcsán!\nNe maradj le erről a különleges eseményről! A Komfort Könyvklub keretében személyesen találkozhatsz Gárdos Péterrel\, akinek méltán népszerű Hét mocskos nap\, Hajnali láz\, Semmelweis Ignác rövid boldogsága\, Királyi játék és Szemérmetlen történetek után most Hamisítók című könyvével ismerkedhetünk meg.\n Időpont: 2025. július 5.\, szombat 16:00 Helyszín: Teleki-Wattay Kastély\, Pomáz (20p autóval Budapest belvárosától)\nA beszélgetés után lehetőségetek lesz könyvvásárlásra (ha előre jelzitek) és dedikálásra is! \n Hamisítók – Open Books\, 2025 Hívjátok meg barátaitokat is\, és találkozzunk július első szombatján a Komfort Könyvklubon!\nNe hagyjátok ki ezt az egyedülálló alkalmat\, hogy első kézből halljatok a regény születéséről és találkozzatok a szerzővel!
URL:https://telekiwattaykastely.hu/event/komfort-konyvklub-gardos-peterrel-beszelgetunk-frissen-megjelent-regenye-a-hamisitok-kapcsan/
END:VEVENT
BEGIN:VEVENT
DTSTART;TZID=UTC:20250724T080000
DTEND;TZID=UTC:20250806T170000
DTSTAMP:20260420T193806
CREATED:20250704T100213Z
LAST-MODIFIED:20250704T100213Z
UID:8875-1753344000-1754499600@telekiwattaykastely.hu
SUMMARY:Zártkörű esemény
DESCRIPTION:
URL:https://telekiwattaykastely.hu/event/zartkoru-esemeny-2/
END:VEVENT
BEGIN:VEVENT
DTSTART;TZID=UTC:20250726T160000
DTEND;TZID=UTC:20250726T170000
DTSTAMP:20260420T193806
CREATED:20250723T104303Z
LAST-MODIFIED:20250723T104303Z
UID:9025-1753545600-1753549200@telekiwattaykastely.hu
SUMMARY:Komfort Könyvklub Pomáz: Forró Bence beszélgetés és dedikálás - A Kérésztánc és a Variációk a boldog(talan)ságra szerzőjével
DESCRIPTION:
URL:https://telekiwattaykastely.hu/event/komfort-konyvklub-pomaz-forro-bence-beszelgetes-es-dedikalas-a-keresztanc-es-a-variaciok-a-boldogtalansagra-szerzojevel/
END:VEVENT
END:VCALENDAR