BEGIN:VCALENDAR
VERSION:2.0
PRODID:-// - ECPv6.15.20//NONSGML v1.0//EN
CALSCALE:GREGORIAN
METHOD:PUBLISH
X-ORIGINAL-URL:https://telekiwattaykastely.hu
X-WR-CALDESC:Események 
REFRESH-INTERVAL;VALUE=DURATION:PT1H
X-Robots-Tag:noindex
X-PUBLISHED-TTL:PT1H
BEGIN:VTIMEZONE
TZID:UTC
BEGIN:STANDARD
TZOFFSETFROM:+0000
TZOFFSETTO:+0000
TZNAME:UTC
DTSTART:20240101T000000
END:STANDARD
END:VTIMEZONE
BEGIN:VEVENT
DTSTART;TZID=UTC:20250724T080000
DTEND;TZID=UTC:20250806T170000
DTSTAMP:20260420T180132
CREATED:20250704T100213Z
LAST-MODIFIED:20250704T100213Z
UID:8875-1753344000-1754499600@telekiwattaykastely.hu
SUMMARY:Zártkörű esemény
DESCRIPTION:
URL:https://telekiwattaykastely.hu/event/zartkoru-esemeny-2/
END:VEVENT
BEGIN:VEVENT
DTSTART;TZID=UTC:20250802T080000
DTEND;TZID=UTC:20250802T090000
DTSTAMP:20260420T180132
CREATED:20250722T094025Z
LAST-MODIFIED:20250722T094052Z
UID:9017-1754121600-1754125200@telekiwattaykastely.hu
SUMMARY:Napindító jóga a szabadban
DESCRIPTION:Ingyenes jóga a Tesla szobor mögött\, a Teleki-Wattay Kastély kertjében.
URL:https://telekiwattaykastely.hu/event/napindito-joga-a-szabadban/
END:VEVENT
BEGIN:VEVENT
DTSTART;TZID=UTC:20250831T170000
DTEND;TZID=UTC:20250831T183000
DTSTAMP:20260420T180132
CREATED:20250828T085937Z
LAST-MODIFIED:20250828T085937Z
UID:9063-1756659600-1756665000@telekiwattaykastely.hu
SUMMARY:Nyárzáró hangfürdő
DESCRIPTION:Lezárjuk a nyarat egy csodás relaxációs programmal. Peter Hess hangtálakkal\, handpan\, zongora és más egzotikus hangszerek segítségével töltődhetsz\, pihenhetsz\, regenerálódhatsz. A rezgések segítik az ellazulásodat\, az energiablokkok oldását. Fogyassz előtte sok folyadékot. A hangfürdő 45 percig tart\, utána bemutatjuk a hangszereket\, eszközöket. Lehetőség nyílik beszélgetésre\, kérdések feltevésére\, a hangtálak kipróbálására. Kismamáknak az első 3 hónapban nem ajánlott\, szívritmus szabályzóval élőknek ellenjavalt. \nA hangfürdő adományos. Minimum adomány : 5000 Ft \nJelentkezz be a lillaegerv@gmail.com címen. A 15.jelentkező ingyen jöhet be. Polifoamot hozz magaddal. \nSzeretettel várunk :Egervári Lilla Peter Hess hangterapeuta és Kiss László hangbűvész
URL:https://telekiwattaykastely.hu/event/nyarzaro-hangfurdo/
ATTACH;FMTTYPE=image/jpeg:https://telekiwattaykastely.hu/wp-content/uploads/2025/08/530438645_32005649705700900_6344389326262458272_n.jpg
END:VEVENT
END:VCALENDAR