BEGIN:VCALENDAR
VERSION:2.0
PRODID:-// - ECPv6.15.20//NONSGML v1.0//EN
CALSCALE:GREGORIAN
METHOD:PUBLISH
X-ORIGINAL-URL:https://telekiwattaykastely.hu
X-WR-CALDESC:Események 
REFRESH-INTERVAL;VALUE=DURATION:PT1H
X-Robots-Tag:noindex
X-PUBLISHED-TTL:PT1H
BEGIN:VTIMEZONE
TZID:UTC
BEGIN:STANDARD
TZOFFSETFROM:+0000
TZOFFSETTO:+0000
TZNAME:UTC
DTSTART:20240101T000000
END:STANDARD
END:VTIMEZONE
BEGIN:VEVENT
DTSTART;TZID=UTC:20250903T180000
DTEND;TZID=UTC:20250903T180000
DTSTAMP:20260420T164048
CREATED:20250801T080051Z
LAST-MODIFIED:20250801T082427Z
UID:9050-1756922400-1756922400@telekiwattaykastely.hu
SUMMARY:Komfort Könyvklub Pomáz
DESCRIPTION:
URL:https://telekiwattaykastely.hu/event/komfort-konyvklub-pomaz/
END:VEVENT
BEGIN:VEVENT
DTSTART;TZID=UTC:20250909T180000
DTEND;TZID=UTC:20250909T180000
DTSTAMP:20260420T164048
CREATED:20250909T075627Z
LAST-MODIFIED:20250909T075654Z
UID:9089-1757440800-1757440800@telekiwattaykastely.hu
SUMMARY:Komfort Könyvklub: Utas és holdvilág augusztusi közös könyv estje
DESCRIPTION:
URL:https://telekiwattaykastely.hu/event/komfort-konyvklub-utas-es-holdvilag-augusztusi-kozos-konyv-estje/
END:VEVENT
BEGIN:VEVENT
DTSTART;TZID=UTC:20250919T180000
DTEND;TZID=UTC:20250919T180000
DTSTAMP:20260420T164048
CREATED:20250828T085339Z
LAST-MODIFIED:20250828T085339Z
UID:9056-1758304800-1758304800@telekiwattaykastely.hu
SUMMARY:Elsiratott festészet - Kócziánné Szalai Teréz kiállításának megnyitója
DESCRIPTION:A kiállítást megnyitja Egervári Lilla művészetterapeuta 2025. szeptember 19-én 18 órakor. Közreműködik: Kis László zongora\, handpenen.A kiállítás megtekinthető 2025. október 10-ig munkanapokon 8-17 óráig\, hétvégén 12–18 óráig.
URL:https://telekiwattaykastely.hu/event/elsiratott-festeszet-koczianne-szalai-terez-kiallitasanak-megnyitoja/
END:VEVENT
BEGIN:VEVENT
DTSTART;TZID=UTC:20250919T180000
DTEND;TZID=UTC:20251010T180000
DTSTAMP:20260420T164048
CREATED:20250828T085427Z
LAST-MODIFIED:20250828T085624Z
UID:9060-1758304800-1760119200@telekiwattaykastely.hu
SUMMARY:Elsiratott festészet - Kócziánné Szalai Teréz kiállítása
DESCRIPTION:A kiállítás megtekinthető 2025. október 10-ig munkanapokon 8-17 óráig\, hétvégén 12-18 óráig.
URL:https://telekiwattaykastely.hu/event/elsiratott-festeszet-koczianne-szalai-terez-kiallitasanak-megnyitoja-2/
END:VEVENT
BEGIN:VEVENT
DTSTART;TZID=UTC:20250920T090000
DTEND;TZID=UTC:20250920T160000
DTSTAMP:20260420T164048
CREATED:20250915T105432Z
LAST-MODIFIED:20250915T105432Z
UID:9101-1758358800-1758384000@telekiwattaykastely.hu
SUMMARY:✨ A Kulturális Örökség Napja és Pomáz Város Napja
DESCRIPTION:✨ A Kulturális Örökség Napja és Pomáz Város Napja alkalmából szeptember 20-án különleges felfedezésre hívunk: pillants be a Teleki-Wattay Kastély titkaiba! \n🏛 A Wattay Emlékszobában 9-16 óra között felfedezheted az itt élt\, nagy múltú család szellemi és tárgyi hagyatékát. \n📖 Kastélytörténet című kiadványunk fotókkal illusztrálva mutatja be számodra az épület történelmi hátterét és műemléki sajátosságait. \n⚡ Nikola Tesla élete és munkássága nyomán szabadulószobánkban egyszerre kel életre a felfedezés izgalma és a találmányok világa! Foglalj időpontot a kastély weboldalán\, és játssz 25%-os kedvezménnyel szombaton! \nVárunk szeretettel!
URL:https://telekiwattaykastely.hu/event/%e2%9c%a8-a-kulturalis-orokseg-napja-es-pomaz-varos-napja/
ATTACH;FMTTYPE=image/jpeg:https://telekiwattaykastely.hu/wp-content/uploads/2025/09/Kulturalis-Orokseg-Napja.jpg
END:VEVENT
BEGIN:VEVENT
DTSTART;TZID=UTC:20250926T190000
DTEND;TZID=UTC:20250926T190000
DTSTAMP:20260420T164048
CREATED:20250909T103057Z
LAST-MODIFIED:20250923T062604Z
UID:9091-1758913200-1758913200@telekiwattaykastely.hu
SUMMARY:Kedvezőtlen időjárás miatt elmarad! Színházi est a Teleki-Wattay Kastélyban!
DESCRIPTION:Szeretettel hívunk minden kedves érdeklődőt 2025. szeptember 26-án\, pénteken 19:00 órára\, amikor a Csillagfény Produkció előadásában láthatják a világszerte nagy sikerrel játszott színdarabot:„Jövőre veled ugyanitt”A színdarab Magyarországon a THEATRUM MUNDI Színházi és Irodalmi Ügynökség közvetítésével kerül bemutatásra.www.theatrum-mundi.huAz előadás hossza: 150 perc egy szünettel. Frissítők és snackek a kastély BAR-jában vásárolhatóak.A Csillagfény Produkció előadásaRendező: Váry Károly – Magyar Arany Érdemkereszt KitüntetettjeFordító: Szántó Judit Helyszín: Teleki-Wattay Kastély (2013 Pomáz\, Templom tér 3.)\, szabadtéri előadás keretében a kastélyteraszon. Kapunyitás: 18:30 Jegyár: 6.500 Ft/fő A helyek érkezési sorrendben foglalhatóak el. \n Parkolás: a kastély parkolójában díjmentesen\, vagy a környező utcákban. \n Jegyvásárlás online:https://csillagfenyprodukcio.jegyx1.hu/…/2025-09-26-19-00Csillagfény Produkció – Jövőre veled ugyanittFacebook esemény link: https://www.facebook.com/share/14KiQUP39Ai/?mibextid=wwXIfr \n Jegyvásárlás személyesen is lehetséges a kastély 0–24 órás recepcióján 2025.09.02-től. \n Ne hagyja ki ezt a felejthetetlen estét! 
URL:https://telekiwattaykastely.hu/event/szinhazi-est-a-teleki-wattay-kastelyban/
END:VEVENT
END:VCALENDAR