BEGIN:VCALENDAR
VERSION:2.0
PRODID:-// - ECPv6.15.20//NONSGML v1.0//EN
CALSCALE:GREGORIAN
METHOD:PUBLISH
X-ORIGINAL-URL:https://telekiwattaykastely.hu
X-WR-CALDESC:Események 
REFRESH-INTERVAL;VALUE=DURATION:PT1H
X-Robots-Tag:noindex
X-PUBLISHED-TTL:PT1H
BEGIN:VTIMEZONE
TZID:UTC
BEGIN:STANDARD
TZOFFSETFROM:+0000
TZOFFSETTO:+0000
TZNAME:UTC
DTSTART:20240101T000000
END:STANDARD
END:VTIMEZONE
BEGIN:VEVENT
DTSTART;TZID=UTC:20250919T180000
DTEND;TZID=UTC:20251010T180000
DTSTAMP:20260420T150721
CREATED:20250828T085427Z
LAST-MODIFIED:20250828T085624Z
UID:9060-1758304800-1760119200@telekiwattaykastely.hu
SUMMARY:Elsiratott festészet - Kócziánné Szalai Teréz kiállítása
DESCRIPTION:A kiállítás megtekinthető 2025. október 10-ig munkanapokon 8-17 óráig\, hétvégén 12-18 óráig.
URL:https://telekiwattaykastely.hu/event/elsiratott-festeszet-koczianne-szalai-terez-kiallitasanak-megnyitoja-2/
END:VEVENT
BEGIN:VEVENT
DTSTART;TZID=UTC:20251001T180000
DTEND;TZID=UTC:20251001T180000
DTSTAMP:20260420T150721
CREATED:20250901T093214Z
LAST-MODIFIED:20250901T093524Z
UID:9071-1759341600-1759341600@telekiwattaykastely.hu
SUMMARY:Komfort Könyvklub: A próféta éneke
DESCRIPTION:
URL:https://telekiwattaykastely.hu/event/komfort-konyvklub-3/
END:VEVENT
BEGIN:VEVENT
DTSTART;TZID=UTC:20251015T180000
DTEND;TZID=UTC:20251015T193000
DTSTAMP:20260420T150721
CREATED:20251006T093039Z
LAST-MODIFIED:20251006T093039Z
UID:9125-1760551200-1760556600@telekiwattaykastely.hu
SUMMARY:Őszi befelé fordulás hangfürdő
DESCRIPTION:Peter Hess hangtálakkal\, gonggal\, handpannel és más egzotikus hangszerekkel segítjük\, hogy minél mélyebbre juthass… A hangtálak rezgései segítenek a blokkok feloldásában\, a harmonikus állapot elérésében. Ez az állapot segít az öngyógyító folyamatok beindulásában\, egyben találkozás önvalónkkal.A relaxációs rész után bemutatjuk a hangszereket\, lehetőség van a kipróbálásra is\, kérdések feltevésére.Hozz magaddal polifoamot\, plédet\, esetleg kispárnát a kényelmedért. Fogyassz sok folyadékot.\n\nRegisztrálj a lillaegerv@gmail.com címen.\n\nA hangfürdő adományos\, min. 5000 ft-tal számolj.\n\nKismamáknak az első 3 hónapban nem ajánlott\, szívritmus szabályzóval élőknek ellenjavalt.\n\nVárunk szeretettel :Egervári Lilla Peter Hess hangterapeuta és Kiss László hangbűvész
URL:https://telekiwattaykastely.hu/event/oszi-befele-fordulas-hangfurdo/
END:VEVENT
BEGIN:VEVENT
DTSTART;TZID=UTC:20251017T180000
DTEND;TZID=UTC:20251017T180000
DTSTAMP:20260420T150721
CREATED:20250924T134821Z
LAST-MODIFIED:20250924T134821Z
UID:9113-1760724000-1760724000@telekiwattaykastely.hu
SUMMARY:Kiss András festőművész Színről színre című kiállításának megnyitója
DESCRIPTION:Szeretettel meghívjuk Önöket a 2025. október 17-én (pénteken) 18:00 órakor kezdődő Kiss András festőművész Színről színre című kiállításának megnyitójára. \nA kiállítást megnyitja Bolyki István képzőművész. \nKözreműködik Kiss László zongorán és handpanen. \nA kiállítás megtekinthető november 9-ig munkanapokon 9-18 óráig\, hétvégén 12-17 óráig.
URL:https://telekiwattaykastely.hu/event/kiss-andras-festomuvesz-szinrol-szinre-cimu-kiallitasanak-megnyitoja/
END:VEVENT
BEGIN:VEVENT
DTSTART;TZID=UTC:20251017T180000
DTEND;TZID=UTC:20251109T100000
DTSTAMP:20260420T150721
CREATED:20250924T134921Z
LAST-MODIFIED:20250924T134956Z
UID:9116-1760724000-1762682400@telekiwattaykastely.hu
SUMMARY:Kiss András festőművész Színről színre című kiállítása
DESCRIPTION:A kiállítás megtekinthető november 9-ig munkanapokon 9-18 óráig\, hétvégén 12-17 óráig.
URL:https://telekiwattaykastely.hu/event/kiss-andras-festomuvesz-szinrol-szinre-cimu-kiallitasa/
END:VEVENT
BEGIN:VEVENT
DTSTART;TZID=UTC:20251019T110000
DTEND;TZID=UTC:20251019T170000
DTSTAMP:20260420T150721
CREATED:20251003T104449Z
LAST-MODIFIED:20251003T104449Z
UID:9119-1760871600-1760893200@telekiwattaykastely.hu
SUMMARY:Esküvő Kiállítás
DESCRIPTION:2025. október 19. | 11:00 – 17:00\n Teleki-Wattay Kastély\, Pomáz\n A belépés ingyenes!\nKészülsz az esküvődre? Imádod a kastélyos rendezvényeket\, süteményeket és a jó hangulatot? Akkor ezt a napot ne hagyd ki!\n Amit kínálunk neked:\nSzámtalan szolgáltató érkezik\, hogy már a tervezéstől segítsük a szervezést! Inspirálódj\, kérdezz bátran\, és ismerd meg a legjobb esküvői partnereket személyesen!\nProgram:\n Welcome koktél – alkoholmentes frissítő az érkezéskor\n Torta-\, sütemény- és esküvői menükóstolás\n Élő DJ szett – hangulat a tetőfokon már délben\n Ruhapróba – próbáld fel álmaid ruháját\n Vezetett kastélytúra – pincétől a padlásig bejárhatod a Teleki-Wattay Kastélyt\n Tombola – értékes nyereményekkel!\n Kérdez-felelek interaktív előadások a Díszebédlőben\nSzakértőink – többek között a pomázi anyakönyvvezető\, fotós\, esküvőszervező\, ruhatervező\, ceremóniamester\, vőfély és a kastély rendezvényszervezője – minden kérdésedre választ adnak. Ne felejtsd el előre összeírni\, ami érdekel!\n Workshopok:\n• Canva ültetőkártyák gyorstalpaló\n• Virágos karperec készítése Hajni Virág Pomáz vezetésével\n Közös mozizás zárásként 16:00-tól a Wattay Szalonban\nLazíts velünk és a szolgáltatókkal egy romantikus vígjáték mellett!\nNachos\, burger és dogger falatokkal készülünk!\n Esküvői hangulat\, inspirációk\, finomságok és hasznos infók egy helyen – várunk szeretettel!\n Jelöld be az eseményt\, és hozd el a párodat\, barátaidat vagy akár a szüleidet is
URL:https://telekiwattaykastely.hu/event/eskuvo-kiallitas-2/
ATTACH;FMTTYPE=image/jpeg:https://telekiwattaykastely.hu/wp-content/uploads/2025/10/555065415_18077991395092817_1249508822711377919_n.jpg
END:VEVENT
END:VCALENDAR