BEGIN:VCALENDAR
VERSION:2.0
PRODID:-// - ECPv6.15.20//NONSGML v1.0//EN
CALSCALE:GREGORIAN
METHOD:PUBLISH
X-ORIGINAL-URL:https://telekiwattaykastely.hu
X-WR-CALDESC:Események 
REFRESH-INTERVAL;VALUE=DURATION:PT1H
X-Robots-Tag:noindex
X-PUBLISHED-TTL:PT1H
BEGIN:VTIMEZONE
TZID:UTC
BEGIN:STANDARD
TZOFFSETFROM:+0000
TZOFFSETTO:+0000
TZNAME:UTC
DTSTART:20240101T000000
END:STANDARD
END:VTIMEZONE
BEGIN:VEVENT
DTSTART;TZID=UTC:20251114T180000
DTEND;TZID=UTC:20251207T083000
DTSTAMP:20260420T115901
CREATED:20251030T151235Z
LAST-MODIFIED:20251030T151235Z
UID:9202-1763143200-1765096200@telekiwattaykastely.hu
SUMMARY:Szegő Attila "Az elmúlt 30 év" című kiállítása
DESCRIPTION:A kiállítást november 14-én\, 18 órakor megnyitja Kiss Péter újságíró.Közreműködik Kiss László handpanen és zongorán.\nA kiállítás megtekinthető december 7-ig munkanapokon 9-17 óráig\, hétvégén 12-18 óráig.
URL:https://telekiwattaykastely.hu/event/szego-attila-az-elmult-30-ev-cimu-kiallitasa/
ATTACH;FMTTYPE=image/jpeg:https://telekiwattaykastely.hu/wp-content/uploads/2025/10/574278049_1521537162823182_7383026422175285625_n.jpg
END:VEVENT
BEGIN:VEVENT
DTSTART;TZID=UTC:20251203T180000
DTEND;TZID=UTC:20251203T180000
DTSTAMP:20260420T115901
CREATED:20251204T075906Z
LAST-MODIFIED:20251204T075906Z
UID:9256-1764784800-1764784800@telekiwattaykastely.hu
SUMMARY:Komfort Könyvklub
DESCRIPTION:
URL:https://telekiwattaykastely.hu/event/komfort-konyvklub-4/
END:VEVENT
BEGIN:VEVENT
DTSTART;TZID=UTC:20251210T180000
DTEND;TZID=UTC:20251210T193000
DTSTAMP:20260420T115901
CREATED:20251125T084752Z
LAST-MODIFIED:20251125T084752Z
UID:9219-1765389600-1765395000@telekiwattaykastely.hu
SUMMARY:Ünnepre hangoló\, elcsendesítő hangfürdő
DESCRIPTION:Az ünnepekre hangolódunk\, kiüresítjük lelkünket\, hogy be tudjuk fogadni az örömöket! Segítenek nekünk a tibeti Peter Hess hangtálak\, gong\, handpan és sok más hangszer is…Ha szeretnél résztvenni\, időben regisztrálj a lillaegerv@gmail.com címen. Ebben az évben ez lesz az utolsó hangfürdőnk.A hangfürdő adományos\, 5000 ft-tal számolj.Ha babát vársz\, az első 3 hónapban nem ajánlott a részvétel. Szívritmus szabályzóval élőknek ellenjavalt.Polifoamot\, párnát hozz magaddal\, és fogyassz sok vizet. Kérjük\, hogy érkezz negyed órával a kezdés előtt.Várunk szeretettel :Egervári Lilla Peter Hess hangterapeuta és Kiss László hangművés
URL:https://telekiwattaykastely.hu/event/unnepre-hangolo-elcsendesito-hangfurdo/
ATTACH;FMTTYPE=image/jpeg:https://telekiwattaykastely.hu/wp-content/uploads/2025/11/584750736_33768838486048671_1889804370783788695_n.jpg
END:VEVENT
BEGIN:VEVENT
DTSTART;TZID=UTC:20251211T180000
DTEND;TZID=UTC:20251211T180000
DTSTAMP:20260420T115901
CREATED:20251125T093533Z
LAST-MODIFIED:20251125T093835Z
UID:9226-1765476000-1765476000@telekiwattaykastely.hu
SUMMARY:Kiállításmegnyitó - ATILLÁTÓL ATILLÁIG BARCSIK GÉZA festő és grafikus gyűjteményes kiállítása
DESCRIPTION:ATILLÁTÓL ATILLÁIG BARCSIK GÉZA festő és grafikus gyűjteményes kiállítása a 80 éves SZÖRÉNYI LEVENTE tiszteletére.\n\nA kiállítást 2025. december 11-én (csütörtökön) 18 órakor megnyitja SZCZUKA ATILLA építész\, a Holdvilágárok Alapítvány kurátora.\nKözreműködik HERCZKU ÁGNES népdalénekes.\n\nA kiállítás megtekinthető 2026. január 20-ig munkanapokon 9-17 óráig\, hétvégén 12-18 óráig.
URL:https://telekiwattaykastely.hu/event/atillatol-atillaig-barcsik-geza-festo-es-grafikus-gyujtemenyes-kiallitasa/
ATTACH;FMTTYPE=image/jpeg:https://telekiwattaykastely.hu/wp-content/uploads/2025/11/9a497f8a-987f-4e2a-9dc2-1372c8cdf73a.jpg
END:VEVENT
BEGIN:VEVENT
DTSTART;TZID=UTC:20251211T180000
DTEND;TZID=UTC:20260120T100000
DTSTAMP:20260420T115901
CREATED:20251125T093823Z
LAST-MODIFIED:20251125T093823Z
UID:9232-1765476000-1768903200@telekiwattaykastely.hu
SUMMARY:ATILLÁTÓL ATILLÁIG BARCSIK GÉZA festő és grafikus gyűjteményes kiállítása
DESCRIPTION:ATILLÁTÓL ATILLÁIG BARCSIK GÉZA festő és grafikus gyűjteményes kiállítása a 80 éves SZÖRÉNYI LEVENTE tiszteletére.\n\nA kiállítást 2025. december 11-én (csütörtökön) 18 órakor megnyitja SZCZUKA ATILLA építész\, a Holdvilágárok Alapítvány kurátora.\nKözreműködik HERCZKU ÁGNES népdalénekes.\n\nA kiállítás megtekinthető 2026. január 20-ig munkanapokon 9-17 óráig\, hétvégén 12-18 óráig.
URL:https://telekiwattaykastely.hu/event/atillatol-atillaig-barcsik-geza-festo-es-grafikus-gyujtemenyes-kiallitasa-2/
ATTACH;FMTTYPE=image/jpeg:https://telekiwattaykastely.hu/wp-content/uploads/2025/11/9a497f8a-987f-4e2a-9dc2-1372c8cdf73a.jpg
END:VEVENT
END:VCALENDAR