BEGIN:VCALENDAR
VERSION:2.0
PRODID:-// - ECPv6.15.20//NONSGML v1.0//EN
CALSCALE:GREGORIAN
METHOD:PUBLISH
X-ORIGINAL-URL:https://telekiwattaykastely.hu
X-WR-CALDESC:Események 
REFRESH-INTERVAL;VALUE=DURATION:PT1H
X-Robots-Tag:noindex
X-PUBLISHED-TTL:PT1H
BEGIN:VTIMEZONE
TZID:UTC
BEGIN:STANDARD
TZOFFSETFROM:+0000
TZOFFSETTO:+0000
TZNAME:UTC
DTSTART:20240101T000000
END:STANDARD
END:VTIMEZONE
BEGIN:VEVENT
DTSTART;TZID=UTC:20251211T180000
DTEND;TZID=UTC:20260120T100000
DTSTAMP:20260420T102311
CREATED:20251125T093823Z
LAST-MODIFIED:20251125T093823Z
UID:9232-1765476000-1768903200@telekiwattaykastely.hu
SUMMARY:ATILLÁTÓL ATILLÁIG BARCSIK GÉZA festő és grafikus gyűjteményes kiállítása
DESCRIPTION:ATILLÁTÓL ATILLÁIG BARCSIK GÉZA festő és grafikus gyűjteményes kiállítása a 80 éves SZÖRÉNYI LEVENTE tiszteletére.\n\nA kiállítást 2025. december 11-én (csütörtökön) 18 órakor megnyitja SZCZUKA ATILLA építész\, a Holdvilágárok Alapítvány kurátora.\nKözreműködik HERCZKU ÁGNES népdalénekes.\n\nA kiállítás megtekinthető 2026. január 20-ig munkanapokon 9-17 óráig\, hétvégén 12-18 óráig.
URL:https://telekiwattaykastely.hu/event/atillatol-atillaig-barcsik-geza-festo-es-grafikus-gyujtemenyes-kiallitasa-2/
ATTACH;FMTTYPE=image/jpeg:https://telekiwattaykastely.hu/wp-content/uploads/2025/11/9a497f8a-987f-4e2a-9dc2-1372c8cdf73a.jpg
END:VEVENT
BEGIN:VEVENT
DTSTART;TZID=UTC:20260121T180000
DTEND;TZID=UTC:20260121T193000
DTSTAMP:20260420T102311
CREATED:20260119T143630Z
LAST-MODIFIED:20260119T143630Z
UID:9403-1769018400-1769023800@telekiwattaykastely.hu
SUMMARY:Új év\, új kezdetek hangfürdő
DESCRIPTION:Újévi hangfürdőnkön hagyjuk hogy a Peter Hess hangtálak \,gong\, handpan\, más egzotikus hangszerek és zongora hanghullámain ringatózva érkezzünk a középpontunkba. Ez segíteni fog\, hogy megtaláljuk a helyes irányt az új évben.. Emellett a rezgések feloldják az esetleges elakadásainkat.Ajánlatos sok vizet fogyasztani. Polifoamot hozni kell.\n\nA hangfürdő adományos: min. 5000 FtRegisztrálj a lillaegerv@gmail.com címen\n\nSzeretettel vár: Egervári Lilla Peter Hess hangterapeuta és Kiss László hangművészA relaxáció 45 perc\, utána lehetőség van a hangszerek megismerésére\, hangtálak kipróbálására\, kérdések feltevésére.(Ez fakultatív )Szívritmusszabályzóval élőknek ellenjavalt\, kismamáknak az első 3 hónapban nem ajánlott.
URL:https://telekiwattaykastely.hu/event/uj-ev-uj-kezdetek-hangfurdo/
END:VEVENT
BEGIN:VEVENT
DTSTART;TZID=UTC:20260124T150000
DTEND;TZID=UTC:20260124T170000
DTSTAMP:20260420T102312
CREATED:20260116T124439Z
LAST-MODIFIED:20260116T124634Z
UID:9364-1769266800-1769274000@telekiwattaykastely.hu
SUMMARY:KÖZÖSSÉGI EGÉSZSÉG NAP
DESCRIPTION:Tanuljunk együtt\, kérdezzünk bátran\, és vigyünk haza olyan tudást\, ami a hétköznapokban is használható! Tudja mindenki\, hogy az Ember legnagyobb kincse az egészsége! De biztos\, hogy jól bánunk vele? El tudunk igazodni az információk áradatában? Jól tudjuk hasznosítani a kapott tanácsokat? Kihez forduljunk? Ezen dilemmák megválaszolásában segít a Magyar Női Unió 2026. évi Országos Egészségmegőrzési Programja. Célunk\, hogy ismert és elismert szakértők bevonásával fokozzuk az egészségtudatosságot\, elsősorban a nők körében. Friss tudással\, hazai és nemzetközi jógyakorlatok bemutatásával\, online és személyes előadásokkal\, workshopokkal\, konzultációkkal hiteles\, közérthető és a mindennapi gyakorlatban alkalmazható egészségmegőrzési információkat kívánunk közvetíteni az érdeklődőknek. Hiszünk abban\, hogy ha a nő testi\, lelki és szellemi egészsége megerősödik\, az pozitívan hat nemcsak saját\, hanem az egész család egészségére! Az első Közösségi Egészség Napon Kautzky-Szemők Adrienn okleveles természetgyógyász\, fitoterapeuta tart előadást korunk egyik kiemelten fontos\, mindenkit érintő témájáról.  \n  \nElőadás témája: AKUT ÉS KRÓNIKUS GYULLADÁSOK\, GÓCOK A SZERVEZETBEN. MEGELŐZÉS ÉS TERÁPIÁK TERMÉSZETES MÓDSZEREKKEL! \n  \n Előadó: Kautzky‑Szemők Adrienn okleveles természetgyógyász\, fitoterapeuta \nLink az előadóról: https://www.youtube.com/watch?v=zPh1-JQZKjo \n  \n Időpont: 2026. január 24. (szombat) 15:00-17:00 óra között \n Helyszín: Pomáz\, Teleki‑Wattay Kastély (https://telekiwattaykastely.hu) \n Cím: 2013 Pomáz\, Templom tér 3. \n Részvételi díj: 7990 Ft / fő \n Pedagógus és önkormányzati dolgozók részére: 5990 Ft / fő \n Magyar Női Unió tagság részére: 4990 Ft / fő \n A férőhelyek száma korlátos\, max. 50 fő. Jegyek online rendelhetők előzetesen\, illetve érkezési sorrendben a helyszínen. \n  \n Program: \n15:00 – 15:10 Köszöntő – Batthyány-Schmidt Margit\, MNU elnök \n15:10 – 15:55 Kautzky-Szemők Adrienn előadása (I. Blokk) \n15:55 – 16:05 Szünet \n16:05 – 16:50 Kautzky-Szemők Adrienn előadása (II. Blokk) \n16:50 – 17:00 Kérdések-válaszok\, közösségi tapasztalatcsere \n  \nJegyrendelés \nA jegyeket ezen a linken keresztül tudja megrendelni: https://docs.google.com/forms/d/e/1FAIpQLSetwJ3TqL3I6Mr3FMTS_4o_iUexFid5kCVAKqrL7n5G4KmBAg/viewform \nHogyan működik a jegyrendelés? \n1. Rendelje meg a jegyet a fenti linken keresztül. \n2. A megrendelés után díjbekérőt küldünk\, amelyet átutalással tud kiegyenlíteni. \n3. A befizetést követően visszaigazoló emailt küldünk\, amely tartalmazza a számláját. \nA Közösségi Egészség Napra nem kell Önnek semmit kinyomtatnia\, tudjuk\, hogy érkezik és szeretettel várjuk! \nwww.mnunio.hu
URL:https://telekiwattaykastely.hu/event/kozossegi-egeszseg-nap-a-kastelyban/
ATTACH;FMTTYPE=image/png:https://telekiwattaykastely.hu/wp-content/uploads/2026/01/VEGLEGES-poszt-KOZOSSEGI-EGESZSEG-NAP.png
END:VEVENT
END:VCALENDAR