BEGIN:VCALENDAR
VERSION:2.0
PRODID:-// - ECPv6.15.20//NONSGML v1.0//EN
CALSCALE:GREGORIAN
METHOD:PUBLISH
X-ORIGINAL-URL:https://telekiwattaykastely.hu
X-WR-CALDESC:Események 
REFRESH-INTERVAL;VALUE=DURATION:PT1H
X-Robots-Tag:noindex
X-PUBLISHED-TTL:PT1H
BEGIN:VTIMEZONE
TZID:UTC
BEGIN:STANDARD
TZOFFSETFROM:+0000
TZOFFSETTO:+0000
TZNAME:UTC
DTSTART:20250101T000000
END:STANDARD
END:VTIMEZONE
BEGIN:VEVENT
DTSTART;TZID=UTC:20260213T180000
DTEND;TZID=UTC:20260213T180000
DTSTAMP:20260420T081034
CREATED:20260119T143134Z
LAST-MODIFIED:20260119T143315Z
UID:9395-1771005600-1771005600@telekiwattaykastely.hu
SUMMARY:Kőműves Éva festőművész kiállításmegnyitója
DESCRIPTION:Kőműves Éva festőművész kiállításmegnyitója \n„Tekintetek narratívája – portrék nőkről és ikonokról” \nIdőpont: 2026.02.13. (péntek) 18 óra \nHelyszín: 2013 Pomáz\, Templom tér 3. – Teleki-Wattay Kastély \nA kiállítást megnyitja: \nEgervári Lilla művészetterapeuta \nFellépők: \nLAS DOS HERMANAS: LIGETFALVI JANKA ÉS DORKA – TÁNC \nMARC MARCO – AKUSZTIKUS GITÁR \nKOVÁCS HAJNALKA ÉS LAJKÓ GYÖRGY – VERS \nKISS LÁSZLÓ – HANDPAN \n  \nA kiállítás megtekinthető március 8-ig naponta 9-18 óráig\, hétvégén 12-17 óráig.
URL:https://telekiwattaykastely.hu/event/komuves-eva-festomuvesz-kiallitasmegnyitoja/
ATTACH;FMTTYPE=image/jpeg:https://telekiwattaykastely.hu/wp-content/uploads/2026/01/Kiallitasmegnyito.jpg
END:VEVENT
BEGIN:VEVENT
DTSTART;TZID=UTC:20260213T180000
DTEND;TZID=UTC:20260308T090000
DTSTAMP:20260420T081034
CREATED:20260119T143209Z
LAST-MODIFIED:20260119T143256Z
UID:9399-1771005600-1772960400@telekiwattaykastely.hu
SUMMARY:Kőműves Éva festőművész kiállítása
DESCRIPTION:Kőműves Éva festőművész kiállításmegnyitója \n„Tekintetek narratívája – portrék nőkről és ikonokról” \nIdőpont: 2026.02.13. (péntek) 18 óra \nHelyszín: 2013 Pomáz\, Templom tér 3. – Teleki-Wattay Kastély \nA kiállítást megnyitja: \nEgervári Lilla művészetterapeuta \nFellépők: \nLAS DOS HERMANAS: LIGETFALVI JANKA ÉS DORKA – TÁNC \nMARC MARCO – AKUSZTIKUS GITÁR \nKOVÁCS HAJNALKA ÉS LAJKÓ GYÖRGY – VERS \nKISS LÁSZLÓ – HANDPAN \n  \nA kiállítás megtekinthető március 8-ig naponta 9-18 óráig\, hétvégén 12-17 óráig.
URL:https://telekiwattaykastely.hu/event/komuves-eva-festomuvesz-kiallitasmegnyitoja-2/
ATTACH;FMTTYPE=image/jpeg:https://telekiwattaykastely.hu/wp-content/uploads/2026/01/Kiallitasmegnyito.jpg
END:VEVENT
BEGIN:VEVENT
DTSTART;TZID=UTC:20260214T170000
DTEND;TZID=UTC:20260214T220000
DTSTAMP:20260420T081034
CREATED:20260129T071912Z
LAST-MODIFIED:20260129T071912Z
UID:9584-1771088400-1771106400@telekiwattaykastely.hu
SUMMARY:💖 Valentin-napi vacsora és romantikus tánctér a Teleki-Wattay Kastélyban 💖
DESCRIPTION:Lepd meg párodat egy igazán különleges élménnyel Valentin-napon! Gyertyafény\, elegancia és meghitt hangulat vár benneteket a varázslatos Teleki-Wattay Kastély falai között.\n Amit kínálunk:Welcome italGyertya- és hangulatfények a Wattay Szalonban és a DíszebédlőbenValentin-napi vacsora svédasztalról (előétel\, leves\, főétel és desszertpult) gluténmentes\, vega és vegán kínálattal\, valamint korlátlan pezsgőfogyasztással.Romantikus asztaldekorációLimitált létszám a bensőséges élményértVIP szoba ( +1 óra privát teremhasználat pezsgőbekészítéssel a vacsorát követően)Romantikus tánctér a kastély teraszán a csillagos ég alatt a gyertyák fényében\n Vacsora időpontja: 17:00-22:00 között\n Fontos:Az esemény előregisztrációhoz kötött\, a férőhelyek száma korlátozott. A regisztráció asztalfoglalással együtt értendő. Asztalfoglalást 2026.02.11. (szerda) 12:00 óráig van lehetőségünk fogadni.Regisztráció és további kérdések: info@telekiwattaykastely.huA teljes csomag részvételi díja: 20.000 Ft/fő (készpénz\, bankkártya\, szép kártya)\n\nLÁNYKÉRÉST TERVEZEL? – SEGÍTÜNK! További információ: info@telekiwattaykastely.hu VIP élmény – Zsolnay teremA VIP szoba a kastély különleges Zsolnay terme\, amelyet kizárólag 3 pár részére biztosítunk\, előregisztráció esetén.Ez egy ajtóval szeparált\, intim kisterem\, ahol a romantika még bensőségesebb formában jelenik meg: elegáns dekoráció gyertyafényes\, meghitten dekorált asztal pezsgőbekészítéssel zavartalan\, exkluzív környezet a szerelmespárok számára a vacsorát követően\n\n VIP teremigényedet kérjük\, asztalfoglaláskor jelezd! (17:00-18:00\, 18:30-19:30\, 20:00-21:00)VIP szoba felár: 10.000 Ft / 1 óra (3 pár számára adott a lehetőség csupán)\n\n Ünnepeljétek a szerelmet egy felejthetetlen estén – ahol az idő egy pillanatra megáll.\n\nFoglalási\, lemondási feltételek:Asztalfoglalás csak e-mailben történhet\, melyet válaszüzenetben igazolunk vissza. Az asztalfoglalás csak és kizárólag visszaigazolt foglalásunk esetén érvényes! Kérjük\, a visszaigazolást hozd magaddal\, és érkezéskor mutasd be a recepciós kollégánknak!\nLemondás: legkésőbb az esemény előtt 3 nappal (2026.02.11. (szerda)\, 12:00 óráig). 3 napon belüli lemondás esetén a teljes részvételi díjat terheljük.\nA vacsora ideje alatt csak 18 éven felüliek számára elérhető alkoholos italkínálatunk. A részvétel alsó korhatára: 16 év.\nA vacsora alatti pezsgő biztosított\, minden más ital önköltségalapon helyszíni fogyasztással történik. Ételt és italt az eseményre behozni tilos.
URL:https://telekiwattaykastely.hu/event/%f0%9f%92%96-valentin-napi-vacsora-es-romantikus-tancter-a-teleki-wattay-kastelyban-%f0%9f%92%96/
ATTACH;FMTTYPE=image/jpeg:https://telekiwattaykastely.hu/wp-content/uploads/2026/01/Csapatepites.jpg
END:VEVENT
BEGIN:VEVENT
DTSTART;TZID=UTC:20260222T110000
DTEND;TZID=UTC:20260222T170000
DTSTAMP:20260420T081034
CREATED:20260121T125716Z
LAST-MODIFIED:20260121T125749Z
UID:9416-1771758000-1771779600@telekiwattaykastely.hu
SUMMARY:ESKÜVŐ KIÁLLÍTÁS 2026
DESCRIPTION: TARTSATOK VELÜNK! Klasszikus\, vagy modern? Hol\, mikor\, mekkora\, kivel\, hogyan és mennyiért? Bérlés? Vásárlás? Vállpánttal? Platinából? Ha úgy érzed\, elveszik a nagy napod a kérdések tengerében\, ne aggódj! Gyere el a HELYSZÍNFÜGGETLEN Esküvő Kiállításunkra a pomázi Teleki-Wattay Kastélyba! Mit kínálunk?\n Welcome italokkal várunk a bejáratnál! Legfinomabb torták és sütemények! Ne maradj le a legjobb szolgáltatókról! Minden a cateringről\, kérdezz-felelek és menükóstolási lehetőség (a kóstolásra előzetes bejelentkezés szükséges a következő címen: info@telekiwattaykastely.hu). QR kód feladatok a kastélyban értékes terembérleti és szolgáltatói kedvezményekért. A legcsodásabb ruhák\, ingyenes privát ruhapróba és tanácsadás a Zsolnay Szalonban! Szeretnél egy főpróbát is? Jelentkezz be hozzánk e-mailben\, és elkészítjük a helyszínen a sminkedet\, valamint a frizurádat is a ruhapróba előtt. A teljes összhatás érdekében fotósaink ajándék fotózást biztosítanak a kastély területén (előzetes bejelentkezés: info@telekiwattaykastely.hu). Próbáld ki magad a pezsgőszökőkútnál! Élő DJ szettek…és még sok-sok szolgáltató\, valamint helyszíni kedvezmény A teljesség igénye nélkül minden egy helyen: Pomázi Anyakönyvvezető\, szertartásvezető\, fotós\, videós\, dekoratőr\, virágkötő\, köszönetajándék\, kiegészítők\, sminkes és fodrász\, hang és fénytechnika szolgáltatás\, meghívótervezés\, kalligráfia\, selfie box\, telefonos vendégkönyv\, vendégkönyvek\, gyertyák\, menyasszonyi cipők\, öltönyház\, vőfélyek és ceremóniamesterek\, zenekarok és zenészek és még megannyi szolgáltató! Részvétel és jegyek Jelezd részvételi szándékodat az „OTT LESZEK” gomb megnyomásával!Akkor is gyertek el\, ha már van helyszínetek! Kiváló szolgáltatóink megismerésére itt a lehetőség! Kövesd az esemény üzenőfalát: heti infók a kiállítókról és a játékokról\, nyereményekről! Belépés ingyenes! (a kóstolások és a ruhapróbák előzetes regisztrációhoz kötött események) Cím: 2013 Pomáz\, Temlom tér 3. – Teleki-Wattay KastélyKérjük\, hogy érkezéskor a WAZE applikációt alkalmazd! Fontos tudnivalókA program változtatásának jogát fenntartjuk.Az esemény alatt készült képeket a Kastély marketing célra használja. Alkoholtartalmú italok (pezsgő\, bor\, koktél) csak 18 éven felülieknek. Kisgyermekek felnőtt kíséret nélkül nem vehetnek részt az eseményen.  Ne hagyd ki az év leginteraktívabb esküvői élményét! Töltsd a napot a Teleki-Wattay Kastély varázslatos környezetében! 
URL:https://telekiwattaykastely.hu/event/eskuvo-kiallitas-2026/
ATTACH;FMTTYPE=image/jpeg:https://telekiwattaykastely.hu/wp-content/uploads/2026/01/Pomazi-Polgar-ESKUVO-KIALLITAS_A4-allo-A4-es.jpg
END:VEVENT
END:VCALENDAR