BEGIN:VCALENDAR
VERSION:2.0
PRODID:-// - ECPv6.15.20//NONSGML v1.0//EN
CALSCALE:GREGORIAN
METHOD:PUBLISH
X-ORIGINAL-URL:https://telekiwattaykastely.hu
X-WR-CALDESC:Események 
REFRESH-INTERVAL;VALUE=DURATION:PT1H
X-Robots-Tag:noindex
X-PUBLISHED-TTL:PT1H
BEGIN:VTIMEZONE
TZID:UTC
BEGIN:STANDARD
TZOFFSETFROM:+0000
TZOFFSETTO:+0000
TZNAME:UTC
DTSTART:20250101T000000
END:STANDARD
END:VTIMEZONE
BEGIN:VEVENT
DTSTART;VALUE=DATE:20260801
DTEND;VALUE=DATE:20260802
DTSTAMP:20260420T114238
CREATED:20260219T121657Z
LAST-MODIFIED:20260219T121657Z
UID:9642-1785542400-1785628799@telekiwattaykastely.hu
SUMMARY:ZÁRTKÖRŰ ESEMÉNY
DESCRIPTION:
URL:https://telekiwattaykastely.hu/event/zartkoru-esemeny-17/
END:VEVENT
BEGIN:VEVENT
DTSTART;VALUE=DATE:20260808
DTEND;VALUE=DATE:20260809
DTSTAMP:20260420T114238
CREATED:20260219T121016Z
LAST-MODIFIED:20260219T121026Z
UID:9628-1786147200-1786233599@telekiwattaykastely.hu
SUMMARY:ZÁRTKÖRŰ ESEMÉNY
DESCRIPTION:
URL:https://telekiwattaykastely.hu/event/zartkoru-esemeny-10/
END:VEVENT
BEGIN:VEVENT
DTSTART;VALUE=DATE:20260814
DTEND;VALUE=DATE:20260815
DTSTAMP:20260420T114238
CREATED:20260219T121051Z
LAST-MODIFIED:20260219T121142Z
UID:9630-1786665600-1786751999@telekiwattaykastely.hu
SUMMARY:ZÁRTKÖRŰ ESEMÉNY
DESCRIPTION:
URL:https://telekiwattaykastely.hu/event/zartkoru-esemeny-11/
END:VEVENT
BEGIN:VEVENT
DTSTART;VALUE=DATE:20260815
DTEND;VALUE=DATE:20260816
DTSTAMP:20260420T114238
CREATED:20260219T121127Z
LAST-MODIFIED:20260219T121127Z
UID:9632-1786752000-1786838399@telekiwattaykastely.hu
SUMMARY:ZÁRTKÖRŰ ESEMÉNY
DESCRIPTION:
URL:https://telekiwattaykastely.hu/event/zartkoru-esemeny-12/
END:VEVENT
BEGIN:VEVENT
DTSTART;VALUE=DATE:20260820
DTEND;VALUE=DATE:20260821
DTSTAMP:20260420T114238
CREATED:20260219T121210Z
LAST-MODIFIED:20260219T121210Z
UID:9634-1787184000-1787270399@telekiwattaykastely.hu
SUMMARY:ZÁRTKÖRŰ ESEMÉNY
DESCRIPTION:
URL:https://telekiwattaykastely.hu/event/zartkoru-esemeny-13/
END:VEVENT
BEGIN:VEVENT
DTSTART;VALUE=DATE:20260829
DTEND;VALUE=DATE:20260830
DTSTAMP:20260420T114238
CREATED:20260219T121234Z
LAST-MODIFIED:20260219T121234Z
UID:9637-1787961600-1788047999@telekiwattaykastely.hu
SUMMARY:ZÁRTKÖRŰ ESEMÉNY
DESCRIPTION:
URL:https://telekiwattaykastely.hu/event/zartkoru-esemeny-14/
END:VEVENT
END:VCALENDAR